* using log directory 'd:/RCompile/CRANincoming/R-devel/bayesestdft.Rcheck' * using R Under development (unstable) (2025-01-07 r87537 ucrt) * using platform: x86_64-w64-mingw32 * R was compiled by gcc.exe (GCC) 13.3.0 GNU Fortran (GCC) 13.3.0 * running under: Windows Server 2022 x64 (build 20348) * using session charset: UTF-8 * checking for file 'bayesestdft/DESCRIPTION' ... OK * this is package 'bayesestdft' version '1.0.0' * package encoding: UTF-8 * checking CRAN incoming feasibility ... NOTE Maintainer: 'Somjit Roy ' New submission Possibly misspelled words in DESCRIPTION: ESS (12:769) Jeffreys (12:367, 12:528) Langevin (12:471) MALA (12:491) MCMC (12:146) RMW (12:326) Authors@R field gives persons with deprecated or bad elements: Warning in person1(given = given[[i]], family = family[[i]], middle = middle[[i]], : It is recommended to use 'given' instead of 'middle'. Found the following (possibly) invalid URLs: URL: https://academic.oup.com/biomet/article-abstract/95/2/325/230123 From: README.md Status: 403 Message: Forbidden Please use DOIs for the following publisher URLs: https://academic.oup.com/biomet/article-abstract/95/2/325/230123 The Title field should be in title case. Current version is: 'Estimating the degrees of freedom of the Student's t-distribution under a Bayesian framework' In title case that is: 'Estimating the Degrees of Freedom of the Student's t-Distribution under a Bayesian Framework' The Description field should not start with the package name, 'This package' or similar. The Description field contains to sample from the posterior Please write DOIs as . Found the following URLs which should use \doi (with the DOI name only): File 'BayesGA.Rd': https://doi.org/10.3390/axioms11090462 File 'BayesJeffreys.Rd': https://doi.org/10.3390/axioms11090462 File 'BayesLNP.Rd': https://doi.org/10.3390/axioms11090462 File 'index_return.Rd': https://doi.org/10.3390/axioms11090462 * checking package namespace information ... OK * checking package dependencies ... OK * checking if this is a source package ... OK * checking if there is a namespace ... OK * checking for hidden files and directories ... OK * checking for portable file names ... OK * checking whether package 'bayesestdft' can be installed ... OK * checking installed package size ... OK * checking package directory ... OK * checking for future file timestamps ... OK * checking DESCRIPTION meta-information ... NOTE Author field differs from that derived from Authors@R Author: 'Somjit Roy [aut, cre], Se Yoon Lee [aut, ctb]' Authors@R: 'Somjit Roy [aut, cre], Se Yoon ctb Lee [aut]' * checking top-level files ... OK * checking for left-over files ... OK * checking index information ... OK * checking package subdirectories ... OK * checking code files for non-ASCII characters ... OK * checking R files for syntax errors ... OK * checking whether the package can be loaded ... OK * checking whether the package can be loaded with stated dependencies ... OK * checking whether the package can be unloaded cleanly ... OK * checking whether the namespace can be loaded with stated dependencies ... OK * checking whether the namespace can be unloaded cleanly ... OK * checking loading without being on the library search path ... OK * checking use of S3 registration ... OK * checking dependencies in R code ... OK * checking S3 generic/method consistency ... OK * checking replacement functions ... OK * checking foreign function calls ... OK * checking R code for possible problems ... OK * checking Rd files ... OK * checking Rd metadata ... OK * checking Rd line widths ... OK * checking Rd cross-references ... OK * checking for missing documentation entries ... OK * checking for code/documentation mismatches ... OK * checking Rd \usage sections ... OK * checking Rd contents ... OK * checking for unstated dependencies in examples ... OK * checking contents of 'data' directory ... OK * checking data for non-ASCII characters ... OK * checking LazyData ... OK * checking data for ASCII and uncompressed saves ... OK * checking examples ... OK * checking PDF version of manual ... [17s] OK * checking HTML version of manual ... OK * DONE Status: 2 NOTEs