* using log directory ‘/srv/hornik/tmp/CRAN_pretest/animl.Rcheck’ * using R Under development (unstable) (2025-10-25 r88970) * using platform: x86_64-pc-linux-gnu * R was compiled by Debian clang version 19.1.7 (7) Debian flang-new version 19.1.7 (7) * running under: Debian GNU/Linux forky/sid * using session charset: UTF-8 * checking for file ‘animl/DESCRIPTION’ ... OK * this is package ‘animl’ version ‘3.0.0’ * package encoding: UTF-8 * checking CRAN incoming feasibility ... [5s/7s] OK * checking package namespace information ... OK * checking package dependencies ... OK * checking if this is a source package ... OK * checking if there is a namespace ... OK * checking for executable files ...