* using log directory ‘/srv/hornik/tmp/CRAN_pretest/affluenceIndex.Rcheck’ * using R Under development (unstable) (2024-09-07 r87105) * using platform: x86_64-pc-linux-gnu * R was compiled by Debian clang version 18.1.8 (9) Debian flang-new version 18.1.8 (9) * running under: Debian GNU/Linux trixie/sid * using session charset: UTF-8 * checking for file ‘affluenceIndex/DESCRIPTION’ ... OK * checking extension type ... Package * this is package ‘affluenceIndex’ version ‘2.2’ * checking CRAN incoming feasibility ... [3s/4s] NOTE Maintainer: ‘Alicja Wolny-Dominiak ’ New submission Package was archived on CRAN Possibly misspelled words in DESCRIPTION: Medeiros (8:195) MetricsWeighted (8:267) CRAN repository db overrides: X-CRAN-Comment: Archived on 2024-07-30 as issues were not corrected in time. No Authors@R field in DESCRIPTION. Please add one, modifying Authors@R: c(person(given = "Alicja", family = "Wolny-Dominiak", role = c("aut", "cre"), email = "alicja.wolny-dominiak@ue.katowice.pl"), person(given = "Anna", family = "Saczewska-Piotrowska", role = "aut")) as necessary. Found the following (possibly) invalid URLs: URL: https://www.sciencedirect.com/science/article/abs/pii/0304407689900742 From: man/affluenceIndex-package.Rd Status: 403 Message: Forbidden * checking package namespace information ... OK * checking package dependencies ... OK * checking if this is a source package ... OK * checking if there is a namespace ... OK * checking for executable files ... OK * checking for hidden files and directories ... OK * checking for portable file names ... OK * checking for sufficient/correct file permissions ... OK * checking whether package ‘affluenceIndex’ can be installed ... [1s/1s] OK * checking package directory ... OK * checking for future file timestamps ... OK * checking DESCRIPTION meta-information ... OK * checking top-level files ... OK * checking for left-over files ... OK * checking index information ... OK * checking package subdirectories ... OK * checking code files for non-ASCII characters ... OK * checking R files for syntax errors ... OK * checking whether the package can be loaded ... [0s/0s] OK * checking whether the package can be loaded with stated dependencies ... [0s/0s] OK * checking whether the package can be unloaded cleanly ... [0s/0s] OK * checking whether the namespace can be loaded with stated dependencies ... [0s/0s] OK * checking whether the namespace can be unloaded cleanly ... [0s/0s] OK * checking loading without being on the library search path ... [0s/0s] OK * checking use of S3 registration ... OK * checking dependencies in R code ... OK * checking S3 generic/method consistency ... OK * checking replacement functions ... OK * checking foreign function calls ... OK * checking R code for possible problems ... [2s/2s] OK * checking Rd files ... [0s/0s] NOTE checkRd: (-1) gini.w.Rd:20: Lost braces; missing escapes or markup? 20 | where \eqn{x_i,x_j} are incomes of individuals \eqn{i} and {j}, respectively, \eqn{n} is the number of individuals, \eqn{\mu_w} is the mean income. The Gini coefficient ranges between 1 (perfect equality) and 1 (perfect inequality). | ^ * checking Rd metadata ... OK * checking Rd line widths ... OK * checking Rd cross-references ... OK * checking for missing documentation entries ... OK * checking for code/documentation mismatches ... OK * checking Rd \usage sections ... OK * checking Rd contents ... OK * checking for unstated dependencies in examples ... OK * checking contents of ‘data’ directory ... OK * checking data for non-ASCII characters ... [0s/0s] OK * checking data for ASCII and uncompressed saves ... OK * checking examples ... [1s/1s] OK * checking PDF version of manual ... [3s/3s] OK * checking HTML version of manual ... [1s/1s] OK * checking for non-standard things in the check directory ... OK * checking for detritus in the temp directory ... OK * DONE Status: 2 NOTEs