* using log directory 'd:/RCompile/CRANincoming/R-devel/WeibullModiAMR.Rcheck' * using R Under development (unstable) (2025-10-03 r88899 ucrt) * using platform: x86_64-w64-mingw32 * R was compiled by gcc.exe (GCC) 14.2.0 GNU Fortran (GCC) 14.2.0 * running under: Windows Server 2022 x64 (build 20348) * using session charset: UTF-8 * checking for file 'WeibullModiAMR/DESCRIPTION' ... OK * checking extension type ... Package * this is package 'WeibullModiAMR' version '0.1.0' * package encoding: UTF-8 * checking CRAN incoming feasibility ... NOTE Maintainer: 'Dr Ajaykumar Rangoli ' New submission Possibly misspelled words in DESCRIPTION: Alwasel (14:47) Lai (13:70) Mustafa (14:30) Peng (13:60) Rangoli (13:47, 14:17) Sarhan (14:5) Xie (13:79) * checking package namespace information ... OK * checking package dependencies ... OK * checking if this is a source package ... OK * checking if there is a namespace ... OK * checking for hidden files and directories ... OK * checking for portable file names ... OK * checking serialization versions ... OK * checking whether package 'WeibullModiAMR' can be installed ... OK * checking installed package size ... OK * checking package directory ... OK * checking for future file timestamps ... OK * checking DESCRIPTION meta-information ... OK * checking top-level files ... NOTE Non-standard file/directory found at top level: 'cran-comments.md' * checking for left-over files ... OK * checking index information ... OK * checking package subdirectories ... OK * checking code files for non-ASCII characters ... OK * checking R files for syntax errors ... OK * checking whether the package can be loaded ... OK * checking whether the package can be loaded with stated dependencies ... OK * checking whether the package can be unloaded cleanly ... OK * checking whether the namespace can be loaded with stated dependencies ... OK * checking whether the namespace can be unloaded cleanly ... OK * checking loading without being on the library search path ... OK * checking use of S3 registration ... OK * checking dependencies in R code ... OK * checking S3 generic/method consistency ... OK * checking replacement functions ... OK * checking foreign function calls ... OK * checking R code for possible problems ... NOTE fit_alwasel: no visible global function definition for 'optim' fit_lai: no visible global function definition for 'optim' fit_mustafa: no visible global function definition for 'optim' fit_peng: no visible global function definition for 'optim' fit_rangoli2: no visible global function definition for 'optim' fit_rangoli2023: no visible global function definition for 'optim' fit_sarhan: no visible global function definition for 'optim' fit_xie: no visible global function definition for 'optim' init_alwasel: no visible global function definition for 'runif' init_lai: no visible global function definition for 'runif' init_mustafa: no visible global function definition for 'runif' init_peng: no visible global function definition for 'runif' init_rangoli2: no visible global function definition for 'runif' init_rangoli2023: no visible global function definition for 'runif' init_sarhan: no visible global function definition for 'runif' init_xie: no visible global function definition for 'runif' Undefined global functions or variables: optim runif Consider adding importFrom("stats", "optim", "runif") to your NAMESPACE file. * checking Rd files ... OK * checking Rd metadata ... OK * checking Rd line widths ... OK * checking Rd cross-references ... OK * checking for missing documentation entries ... OK * checking for code/documentation mismatches ... OK * checking Rd \usage sections ... OK * checking Rd contents ... OK * checking for unstated dependencies in examples ... OK * checking examples ... OK * checking PDF version of manual ... [20s] OK * checking HTML version of manual ... OK * DONE Status: 3 NOTEs