* using log directory ‘/srv/hornik/tmp/CRAN_pretest/WeibullModiAMR.Rcheck’ * using R Under development (unstable) (2025-10-03 r88899) * using platform: x86_64-pc-linux-gnu * R was compiled by Debian clang version 19.1.7 (3+b1) Debian flang-new version 19.1.7 (3+b1) * running under: Debian GNU/Linux forky/sid * using session charset: UTF-8 * checking for file ‘WeibullModiAMR/DESCRIPTION’ ... OK * checking extension type ... Package * this is package ‘WeibullModiAMR’ version ‘0.1.0’ * package encoding: UTF-8 * checking CRAN incoming feasibility ... [3s/4s] NOTE Maintainer: ‘Dr Ajaykumar Rangoli ’ New submission Possibly misspelled words in DESCRIPTION: Alwasel (14:47) Lai (13:70) Mustafa (14:30) Peng (13:60) Rangoli (13:47, 14:17) Sarhan (14:5) Xie (13:79) * checking package namespace information ... OK * checking package dependencies ... OK * checking if this is a source package ... OK * checking if there is a namespace ... OK * checking for executable files ... OK * checking for hidden files and directories ... OK * checking for portable file names ... OK * checking for sufficient/correct file permissions ... OK * checking serialization versions ... OK * checking whether package ‘WeibullModiAMR’ can be installed ... [1s/1s] OK * checking package directory ... OK * checking for future file timestamps ... OK * checking DESCRIPTION meta-information ... OK * checking top-level files ... NOTE Non-standard file/directory found at top level: ‘cran-comments.md’ * checking for left-over files ... OK * checking index information ... OK * checking package subdirectories ... OK * checking code files for non-ASCII characters ... OK * checking R files for syntax errors ... OK * checking whether the package can be loaded ... [0s/0s] OK * checking whether the package can be loaded with stated dependencies ... [0s/0s] OK * checking whether the package can be unloaded cleanly ... [0s/0s] OK * checking whether the namespace can be loaded with stated dependencies ... [0s/0s] OK * checking whether the namespace can be unloaded cleanly ... [0s/0s] OK * checking loading without being on the library search path ... [0s/0s] OK * checking use of S3 registration ... OK * checking dependencies in R code ... OK * checking S3 generic/method consistency ... OK * checking replacement functions ... OK * checking foreign function calls ... OK * checking R code for possible problems ... [2s/2s] NOTE fit_alwasel: no visible global function definition for ‘optim’ fit_lai: no visible global function definition for ‘optim’ fit_mustafa: no visible global function definition for ‘optim’ fit_peng: no visible global function definition for ‘optim’ fit_rangoli2: no visible global function definition for ‘optim’ fit_rangoli2023: no visible global function definition for ‘optim’ fit_sarhan: no visible global function definition for ‘optim’ fit_xie: no visible global function definition for ‘optim’ init_alwasel: no visible global function definition for ‘runif’ init_lai: no visible global function definition for ‘runif’ init_mustafa: no visible global function definition for ‘runif’ init_peng: no visible global function definition for ‘runif’ init_rangoli2: no visible global function definition for ‘runif’ init_rangoli2023: no visible global function definition for ‘runif’ init_sarhan: no visible global function definition for ‘runif’ init_xie: no visible global function definition for ‘runif’ Undefined global functions or variables: optim runif Consider adding importFrom("stats", "optim", "runif") to your NAMESPACE file. * checking Rd files ... [0s/0s] OK * checking Rd metadata ... OK * checking Rd line widths ... OK * checking Rd cross-references ... OK * checking for missing documentation entries ... OK * checking for code/documentation mismatches ... OK * checking Rd \usage sections ... OK * checking Rd contents ... OK * checking for unstated dependencies in examples ... OK * checking examples ... [0s/0s] OK * checking PDF version of manual ... [3s/3s] OK * checking HTML version of manual ... [0s/0s] OK * checking for non-standard things in the check directory ... OK * checking for detritus in the temp directory ... OK * DONE Status: 3 NOTEs