* using log directory 'd:/RCompile/CRANincoming/R-devel/WaTL.Rcheck' * using R Under development (unstable) (2025-11-23 r89052 ucrt) * using platform: x86_64-w64-mingw32 * R was compiled by gcc.exe (GCC) 14.3.0 GNU Fortran (GCC) 14.3.0 * running under: Windows Server 2022 x64 (build 20348) * using session charset: UTF-8 * checking for file 'WaTL/DESCRIPTION' ... OK * checking extension type ... Package * this is package 'WaTL' version '0.1.0' * package encoding: UTF-8 * checking CRAN incoming feasibility ... NOTE Maintainer: 'Xinran Wang ' New submission Possibly misspelled words in DESCRIPTION: WaTL (8:60) Wasserstein (3:8, 8:29, 12:44) Zhang (12:67) al (12:76) et (12:73) Package has a VignetteBuilder field but no prebuilt vignette index. The Description field contains Wasserstein space. See Zhang et al. (2025) for Please refer to arXiv e-prints via their arXiv DOI . * checking package namespace information ... OK * checking package dependencies ... INFO Vignette dependency required without any vignettes: 'knitr' * checking if this is a source package ... OK * checking if there is a namespace ... OK * checking for hidden files and directories ... NOTE Found the following hidden files and directories: .claude These were most likely included in error. See section 'Package structure' in the 'Writing R Extensions' manual. CRAN-pack does not know about .claude * checking for portable file names ... OK * checking whether package 'WaTL' can be installed ... OK * checking installed package size ... OK * checking package directory ... OK * checking for future file timestamps ... OK * checking DESCRIPTION meta-information ... OK * checking top-level files ... OK * checking for left-over files ... OK * checking index information ... OK * checking package subdirectories ... OK * checking code files for non-ASCII characters ... OK * checking R files for syntax errors ... OK * checking whether the package can be loaded ... OK * checking whether the package can be loaded with stated dependencies ... OK * checking whether the package can be unloaded cleanly ... OK * checking whether the namespace can be loaded with stated dependencies ... OK * checking whether the namespace can be unloaded cleanly ... OK * checking loading without being on the library search path ... OK * checking use of S3 registration ... OK * checking dependencies in R code ... OK * checking S3 generic/method consistency ... OK * checking replacement functions ... OK * checking foreign function calls ... OK * checking R code for possible problems ... OK * checking Rd files ... NOTE checkRd: (-1) simulate_data_setting1.Rd:32: Lost braces; missing escapes or markup? 32 | \item F^{-1}_{nu^(0)}(u) = w^(0)(1-u)u + (1-X^(0))u + X^(0) F^{-1}_{Z^(0)}(u) | ^ checkRd: (-1) simulate_data_setting1.Rd:32: Lost braces; missing escapes or markup? 32 | \item F^{-1}_{nu^(0)}(u) = w^(0)(1-u)u + (1-X^(0))u + X^(0) F^{-1}_{Z^(0)}(u) | ^ checkRd: (-1) simulate_data_setting1.Rd:32: Lost braces; missing escapes or markup? 32 | \item F^{-1}_{nu^(0)}(u) = w^(0)(1-u)u + (1-X^(0))u + X^(0) F^{-1}_{Z^(0)}(u) | ^ checkRd: (-1) simulate_data_setting1.Rd:32: Lost braces; missing escapes or markup? 32 | \item F^{-1}_{nu^(0)}(u) = w^(0)(1-u)u + (1-X^(0))u + X^(0) F^{-1}_{Z^(0)}(u) | ^ checkRd: (-1) simulate_data_setting1.Rd:33: Lost braces; missing escapes or markup? 33 | \item Z^(0) ~ N(0.5, 1)|_{(0,1)} (truncated normal) | ^ checkRd: (-1) simulate_data_setting1.Rd:34: Lost braces; missing escapes or markup? 34 | \item w^(0) ~ N(0, 1)|_{(-0.5, 0.5)} (truncated normal) | ^ checkRd: (-1) simulate_data_setting1.Rd:41: Lost braces; missing escapes or markup? 41 | \item F^{-1}_{nu^(k)}(u) = w^(k)(1-u)u + (1-X^(k))u + X^(k) F^{-1}_{Z^(k)}(u) | ^ checkRd: (-1) simulate_data_setting1.Rd:41: Lost braces; missing escapes or markup? 41 | \item F^{-1}_{nu^(k)}(u) = w^(k)(1-u)u + (1-X^(k))u + X^(k) F^{-1}_{Z^(k)}(u) | ^ checkRd: (-1) simulate_data_setting1.Rd:41: Lost braces; missing escapes or markup? 41 | \item F^{-1}_{nu^(k)}(u) = w^(k)(1-u)u + (1-X^(k))u + X^(k) F^{-1}_{Z^(k)}(u) | ^ checkRd: (-1) simulate_data_setting1.Rd:41: Lost braces; missing escapes or markup? 41 | \item F^{-1}_{nu^(k)}(u) = w^(k)(1-u)u + (1-X^(k))u + X^(k) F^{-1}_{Z^(k)}(u) | ^ checkRd: (-1) simulate_data_setting1.Rd:42: Lost braces; missing escapes or markup? 42 | \item Z^(k) ~ N(0.5, 1-psi_k)|_{(0,1)} | ^ checkRd: (-1) simulate_data_setting1.Rd:43: Lost braces; missing escapes or markup? 43 | \item w^(k) ~ N(0, 1)|_{(-0.5, 0.5)} | ^ * checking Rd metadata ... OK * checking Rd line widths ... OK * checking Rd cross-references ... OK * checking for missing documentation entries ... OK * checking for code/documentation mismatches ... OK * checking Rd \usage sections ... OK * checking Rd contents ... OK * checking for unstated dependencies in examples ... OK * checking examples ... OK * checking PDF version of manual ... [12s] OK * checking HTML version of manual ... OK * DONE Status: 3 NOTEs