* using log directory 'd:/RCompile/CRANincoming/R-devel/TrialSimulator.Rcheck' * using R Under development (unstable) (2025-01-11 r87563 ucrt) * using platform: x86_64-w64-mingw32 * R was compiled by gcc.exe (GCC) 13.3.0 GNU Fortran (GCC) 13.3.0 * running under: Windows Server 2022 x64 (build 20348) * using session charset: UTF-8 * checking for file 'TrialSimulator/DESCRIPTION' ... OK * checking extension type ... Package * this is package 'TrialSimulator' version '0.20.0' * package encoding: UTF-8 * checking CRAN incoming feasibility ... NOTE Maintainer: 'Han Zhang ' New submission * checking package namespace information ... OK * checking package dependencies ... OK * checking if this is a source package ... OK * checking if there is a namespace ... OK * checking for hidden files and directories ... OK * checking for portable file names ... OK * checking serialization versions ... OK * checking whether package 'TrialSimulator' can be installed ... OK * checking installed package size ... OK * checking package directory ... OK * checking for future file timestamps ... OK * checking 'build' directory ... OK * checking DESCRIPTION meta-information ... OK * checking top-level files ... OK * checking for left-over files ... OK * checking index information ... OK * checking package subdirectories ... OK * checking code files for non-ASCII characters ... OK * checking R files for syntax errors ... OK * checking whether the package can be loaded ... OK * checking whether the package can be loaded with stated dependencies ... OK * checking whether the package can be unloaded cleanly ... OK * checking whether the namespace can be loaded with stated dependencies ... OK * checking whether the namespace can be unloaded cleanly ... OK * checking loading without being on the library search path ... OK * checking use of S3 registration ... OK * checking dependencies in R code ... OK * checking S3 generic/method consistency ... OK * checking replacement functions ... OK * checking foreign function calls ... OK * checking R code for possible problems ... [13s] OK * checking Rd files ... OK * checking Rd metadata ... OK * checking Rd line widths ... OK * checking Rd cross-references ... OK * checking for missing documentation entries ... OK * checking for code/documentation mismatches ... OK * checking Rd \usage sections ... OK * checking Rd contents ... OK * checking for unstated dependencies in examples ... OK * checking installed files from 'inst/doc' ... OK * checking files in 'vignettes' ... OK * checking examples ... OK * checking for unstated dependencies in vignettes ... OK * checking package vignettes ... OK * checking re-building of vignette outputs ... [50s] OK * checking PDF version of manual ... [23s] OK * checking HTML version of manual ... NOTE Found the following HTML validation problems: GraphicalTesting.html:108:1 (GraphicalTesting.Rd:108): Warning: attribute "id" has invalid value "method-Graphical Testing Procedure-new" GraphicalTesting.html:162:1 (GraphicalTesting.Rd:150): Warning: attribute "id" has invalid value "method-Graphical Testing Procedure-is_valid_hid" GraphicalTesting.html:191:1 (GraphicalTesting.Rd:167): Warning: attribute "id" has invalid value "method-Graphical Testing Procedure-get_hypothesis_name" GraphicalTesting.html:220:1 (GraphicalTesting.Rd:184): Warning: attribute "id" has invalid value "method-Graphical Testing Procedure-get_weight" GraphicalTesting.html:251:1 (GraphicalTesting.Rd:203): Warning: attribute "id" has invalid value "method-Graphical Testing Procedure-set_weight" GraphicalTesting.html:284:1 (GraphicalTesting.Rd:224): Warning: attribute "id" has invalid value "method-Graphical Testing Procedure-get_alpha" GraphicalTesting.html:316:1 (GraphicalTesting.Rd:244): Warning: attribute "id" has invalid value "method-Graphical Testing Procedure-set_alpha" GraphicalTesting.html:347:1 (GraphicalTesting.Rd:263): Warning: attribute "id" has invalid value "method-Graphical Testing Procedure-get_hypotheses_ids" GraphicalTesting.html:363:1 (GraphicalTesting.Rd:273): Warning: attribute "id" has invalid value "method-Graphical Testing Procedure-get_number_hypotheses" GraphicalTesting.html:379:1 (GraphicalTesting.Rd:283): Warning: attribute "id" has invalid value "method-Graphical Testing Procedure-get_hids_not_in_graph" GraphicalTesting.html:395:1 (GraphicalTesting.Rd:293): Warning: attribute "id" has invalid value "method-Graphical Testing Procedure-get_testable_hypotheses" GraphicalTesting.html:412:1 (GraphicalTesting.Rd:304): Warning: attribute "id" has invalid value "method-Graphical Testing Procedure-has_testable_hypotheses" GraphicalTesting.html:429:1 (GraphicalTesting.Rd:315): Warning: attribute "id" has invalid value "method-Graphical Testing Procedure-is_in_graph" GraphicalTesting.html:458:1 (GraphicalTesting.Rd:332): Warning: attribute "id" has invalid value "method-Graphical Testing Procedure-is_testable" GraphicalTesting.html:487:1 (GraphicalTesting.Rd:349): Warning: attribute "id" has invalid value "method-Graphical Testing Procedure-get_hid" GraphicalTesting.html:517:1 (GraphicalTesting.Rd:367): Warning: attribute "id" has invalid value "method-Graphical Testing Procedure-reject_a_hypothesis" GraphicalTesting.html:547:1 (GraphicalTesting.Rd:385): Warning: attribute "id" has invalid value "method-Graphical Testing Procedure-set_trajectory" GraphicalTesting.html:576:1 (GraphicalTesting.Rd:402): Warning: attribute "id" has invalid value "method-Graphical Testing Procedure-get_trajectory" GraphicalTesting.html:595:1 (GraphicalTesting.Rd:415): Warning: attribute "id" has invalid value "method-Graphical Testing Procedure-test_hypotheses" GraphicalTesting.html:641:1 (GraphicalTesting.Rd:449): Warning: attribute "id" has invalid value "method-Graphical Testing Procedure-test" GraphicalTesting.html:704:1 (GraphicalTesting.Rd:496): Warning: attribute "id" has invalid value "method-Graphical Testing Procedure-get_current_testing_results" GraphicalTesting.html:732:1 (GraphicalTesting.Rd:518): Warning: attribute "id" has invalid value "method-Graphical Testing Procedure-print" GraphicalTesting.html:765:1 (GraphicalTesting.Rd:539): Warning: attribute "id" has invalid value "method-Graphical Testing Procedure-clone" GroupSequentialTest.html:89:1 (GroupSequentialTest.Rd:96): Warning: attribute "id" has invalid value "method-Group Sequential Test-new" GroupSequentialTest.html:135:1 (GroupSequentialTest.Rd:130): Warning: attribute "id" has invalid value "method-Group Sequential Test-get_stage" GroupSequentialTest.html:152:1 (GroupSequentialTest.Rd:141): Warning: attribute "id" has invalid value "method-Group Sequential Test-set_alpha_spending" GroupSequentialTest.html:182:1 (GroupSequentialTest.Rd:159): Warning: attribute "id" has invalid value "method-Group Sequential Test-get_alpha_spending" GroupSequentialTest.html:198:1 (GroupSequentialTest.Rd:169): Warning: attribute "id" has invalid value "method-Group Sequential Test-get_max_info" GroupSequentialTest.html:214:1 (GroupSequentialTest.Rd:179): Warning: attribute "id" has invalid value "method-Group Sequential Test-set_max_info" GroupSequentialTest.html:245:1 (GroupSequentialTest.Rd:198): Warning: attribute "id" has invalid value "method-Group Sequential Test-reset" GroupSequentialTest.html:267:1 (GroupSequentialTest.Rd:214): Warning: attribute "id" has invalid value "method-Group Sequential Test-set_trajectory" GroupSequentialTest.html:296:1 (GroupSequentialTest.Rd:231): Warning: attribute "id" has invalid value "method-Group Sequential Test-get_trajectory" GroupSequentialTest.html:313:1 (GroupSequentialTest.Rd:242): Warning: attribute "id" has invalid value "method-Group Sequential Test-get_stage_level" GroupSequentialTest.html:330:1 (GroupSequentialTest.Rd:253): Warning: attribute "id" has invalid value "method-Group Sequential Test-test" GroupSequentialTest.html:368:1 (GroupSequentialTest.Rd:279): Warning: attribute "id" has invalid value "method-Group Sequential Test-test_all" GroupSequentialTest.html:406:1 (GroupSequentialTest.Rd:305): Warning: attribute "id" has invalid value "method-Group Sequential Test-print" GroupSequentialTest.html:422:1 (GroupSequentialTest.Rd:315): Warning: attribute "id" has invalid value "method-Group Sequential Test-clone" * DONE Status: 2 NOTEs