* using log directory 'd:/RCompile/CRANincoming/R-devel/SumcaVer1.Rcheck' * using R Under development (unstable) (2024-07-14 r86899 ucrt) * using platform: x86_64-w64-mingw32 * R was compiled by gcc.exe (GCC) 13.2.0 GNU Fortran (GCC) 13.2.0 * running under: Windows Server 2022 x64 (build 20348) * using session charset: UTF-8 * checking for file 'SumcaVer1/DESCRIPTION' ... OK * checking extension type ... Package * this is package 'SumcaVer1' version '0.1.0' * package encoding: UTF-8 * checking CRAN incoming feasibility ... NOTE Maintainer: 'Mahmoud Torabi ' New submission Possibly misspelled words in DESCRIPTION: Herriot (9:390) JASA (9:324) JRSS (9:171) Jiang (9:147, 9:427) Lahiri (9:434) MSPE (3:8, 9:59, 9:187, 9:282) Prasad (9:306) Rao (9:313) SUMCA (9:140) Torabi (9:157) Author field should be Authors@R. Current value is: c(person(given = "Mahmoud", family = "Torabi", role = c("aut","cre"), email = "mahmoud.torabi@umanitoba.ca"), person(given = "Jiming", family = "Jiang", role = "ctb")) The Title field should be in title case. Current version is: 'MSPE estimation in Small Area Estimation' In title case that is: 'MSPE Estimation in Small Area Estimation' * checking package namespace information ... OK * checking package dependencies ... OK * checking if this is a source package ... OK * checking if there is a namespace ... OK * checking for hidden files and directories ... OK * checking for portable file names ... OK * checking serialization versions ... OK * checking whether package 'SumcaVer1' can be installed ... OK * checking installed package size ... OK * checking package directory ... OK * checking for future file timestamps ... OK * checking DESCRIPTION meta-information ... OK * checking top-level files ... OK * checking for left-over files ... OK * checking index information ... OK * checking package subdirectories ... OK * checking code files for non-ASCII characters ... OK * checking R files for syntax errors ... OK * checking whether the package can be loaded ... OK * checking whether the package can be loaded with stated dependencies ... OK * checking whether the package can be unloaded cleanly ... OK * checking whether the namespace can be loaded with stated dependencies ... OK * checking whether the namespace can be unloaded cleanly ... OK * checking loading without being on the library search path ... OK * checking use of S3 registration ... OK * checking dependencies in R code ... OK * checking S3 generic/method consistency ... OK * checking replacement functions ... OK * checking foreign function calls ... OK * checking R code for possible problems ... [14s] OK * checking Rd files ... OK * checking Rd metadata ... OK * checking Rd line widths ... OK * checking Rd cross-references ... OK * checking for missing documentation entries ... OK * checking for code/documentation mismatches ... OK * checking Rd \usage sections ... OK * checking Rd contents ... OK * checking for unstated dependencies in examples ... OK * checking examples ... [21s] OK * checking PDF version of manual ... [13s] OK * checking HTML version of manual ... OK * DONE Status: 1 NOTE