* using log directory 'd:/RCompile/CRANincoming/R-devel/Rcpp.Rcheck' * using R Under development (unstable) (2025-06-30 r88369 ucrt) * using platform: x86_64-w64-mingw32 * R was compiled by gcc.exe (GCC) 14.2.0 GNU Fortran (GCC) 14.2.0 * running under: Windows Server 2022 x64 (build 20348) * using session charset: UTF-8 * checking for file 'Rcpp/DESCRIPTION' ... OK * this is package 'Rcpp' version '1.1.0' * package encoding: UTF-8 * checking CRAN incoming feasibility ... [22s] NOTE Maintainer: 'Dirk Eddelbuettel ' Found the following (possibly) invalid URLs: URL: https://github.com/RcppCore/Rcpp/pull/1061 From: inst/NEWS.Rd Status: 429 Message: Too Many Requests URL: https://github.com/RcppCore/Rcpp/pull/1070 From: inst/NEWS.Rd Status: 429 Message: Too Many Requests URL: https://github.com/RcppCore/Rcpp/pull/1074 From: inst/NEWS.Rd Status: 429 Message: Too Many Requests URL: https://github.com/RcppCore/Rcpp/pull/1087 From: inst/NEWS.Rd Status: 429 Message: Too Many Requests URL: https://github.com/RcppCore/Rcpp/pull/1168 From: inst/NEWS.Rd Status: 429 Message: Too Many Requests URL: https://github.com/RcppCore/Rcpp/pull/1334 From: inst/NEWS.Rd Status: 429 Message: Too Many Requests URL: https://github.com/RcppCore/Rcpp/pull/1360 From: inst/NEWS.Rd Status: 429 Message: Too Many Requests URL: https://github.com/RcppCore/Rcpp/pull/1384 From: inst/NEWS.Rd Status: 429 Message: Too Many Requests URL: https://github.com/RcppCore/Rcpp/pull/801 From: inst/NEWS.Rd Status: 429 Message: Too Many Requests URL: https://github.com/RcppCore/Rcpp/pull/802 From: inst/NEWS.Rd Status: 429 Message: Too Many Requests URL: https://github.com/RcppCore/Rcpp/pull/811 From: inst/NEWS.Rd Status: 429 Message: Too Many Requests URL: https://github.com/RcppCore/Rcpp/pull/813 From: inst/NEWS.Rd Status: 429 Message: Too Many Requests URL: https://github.com/RcppCore/Rcpp/pull/825 From: inst/NEWS.Rd Status: 429 Message: Too Many Requests URL: https://github.com/RcppCore/Rcpp/pull/826 From: inst/NEWS.Rd Status: 429 Message: Too Many Requests URL: https://github.com/RcppCore/Rcpp/pull/829 From: inst/NEWS.Rd Status: 429 Message: Too Many Requests URL: https://github.com/RcppCore/Rcpp/pull/831 From: inst/NEWS.Rd Status: 429 Message: Too Many Requests URL: https://github.com/RcppCore/Rcpp/pull/837 From: inst/NEWS.Rd Status: 429 Message: Too Many Requests URL: https://github.com/RcppCore/Rcpp/pull/845 From: inst/NEWS.Rd Status: 429 Message: Too Many Requests URL: https://github.com/RcppCore/Rcpp/pull/846 From: inst/NEWS.Rd Status: 429 Message: Too Many Requests URL: https://github.com/RcppCore/Rcpp/pull/847 From: inst/NEWS.Rd Status: 429 Message: Too Many Requests URL: https://github.com/RcppCore/Rcpp/pull/850 From: inst/NEWS.Rd Status: 429 Message: Too Many Requests URL: https://github.com/RcppCore/Rcpp/pull/852 From: inst/NEWS.Rd Status: 429 Message: Too Many Requests URL: https://github.com/RcppCore/Rcpp/pull/855 From: inst/NEWS.Rd Status: 429 Message: Too Many Requests URL: https://github.com/RcppCore/Rcpp/pull/858 From: inst/NEWS.Rd Status: 429 Message: Too Many Requests URL: https://github.com/RcppCore/Rcpp/pull/859 From: inst/NEWS.Rd Status: 429 Message: Too Many Requests URL: https://github.com/RcppCore/Rcpp/pull/860 From: inst/NEWS.Rd Status: 429 Message: Too Many Requests URL: https://github.com/RcppCore/Rcpp/pull/862 From: inst/NEWS.Rd Status: 429 Message: Too Many Requests URL: https://github.com/RcppCore/Rcpp/pull/863 From: inst/NEWS.Rd Status: 429 Message: Too Many Requests URL: https://github.com/RcppCore/Rcpp/pull/867 From: inst/NEWS.Rd Status: 429 Message: Too Many Requests URL: https://github.com/RcppCore/Rcpp/pull/868 From: inst/NEWS.Rd Status: 429 Message: Too Many Requests URL: https://github.com/RcppCore/Rcpp/pull/869 From: inst/NEWS.Rd Status: 429 Message: Too Many Requests URL: https://github.com/RcppCore/Rcpp/pull/873 From: inst/NEWS.Rd Status: 429 Message: Too Many Requests URL: https://github.com/RcppCore/Rcpp/pull/876 From: inst/NEWS.Rd Status: 429 Message: Too Many Requests URL: https://github.com/RcppCore/Rcpp/pull/877 From: inst/NEWS.Rd Status: 429 Message: Too Many Requests URL: https://github.com/RcppCore/Rcpp/pull/878 From: inst/NEWS.Rd Status: 429 Message: Too Many Requests URL: https://github.com/RcppCore/Rcpp/pull/882 From: inst/NEWS.Rd Status: 429 Message: Too Many Requests URL: https://github.com/RcppCore/Rcpp/pull/884 From: inst/NEWS.Rd Status: 429 Message: Too Many Requests URL: https://github.com/RcppCore/Rcpp/pull/886 From: inst/NEWS.Rd Status: 429 Message: Too Many Requests URL: https://github.com/RcppCore/Rcpp/pull/887 From: inst/NEWS.Rd Status: 429 Message: Too Many Requests URL: https://github.com/RcppCore/Rcpp/pull/893 From: inst/NEWS.Rd Status: 429 Message: Too Many Requests URL: https://github.com/RcppCore/Rcpp/pull/894 From: inst/NEWS.Rd Status: 429 Message: Too Many Requests URL: https://github.com/RcppCore/Rcpp/pull/895 From: inst/NEWS.Rd Status: 429 Message: Too Many Requests URL: https://github.com/RcppCore/Rcpp/pull/896 From: inst/NEWS.Rd Status: 429 Message: Too Many Requests URL: https://github.com/RcppCore/Rcpp/pull/900 From: inst/NEWS.Rd Status: 429 Message: Too Many Requests URL: https://github.com/RcppCore/Rcpp/pull/903 From: inst/NEWS.Rd Status: 429 Message: Too Many Requests URL: https://github.com/RcppCore/Rcpp/pull/904 From: inst/NEWS.Rd Status: 429 Message: Too Many Requests URL: https://github.com/RcppCore/Rcpp/pull/905 From: inst/NEWS.Rd Status: 429 Message: Too Many Requests URL: https://github.com/RcppCore/Rcpp/pull/907 From: inst/NEWS.Rd Status: 429 Message: Too Many Requests URL: https://github.com/RcppCore/Rcpp/pull/908 From: inst/NEWS.Rd Status: 429 Message: Too Many Requests URL: https://github.com/RcppCore/Rcpp/pull/910 From: inst/NEWS.Rd Status: 429 Message: Too Many Requests URL: https://github.com/RcppCore/Rcpp/pull/912 From: inst/NEWS.Rd Status: 429 Message: Too Many Requests URL: https://github.com/RcppCore/Rcpp/pull/914 From: inst/NEWS.Rd Status: 429 Message: Too Many Requests URL: https://github.com/RcppCore/Rcpp/pull/917 From: inst/NEWS.Rd Status: 429 Message: Too Many Requests URL: https://github.com/RcppCore/Rcpp/pull/920 From: inst/NEWS.Rd Status: 429 Message: Too Many Requests URL: https://github.com/RcppCore/Rcpp/pull/927 From: inst/NEWS.Rd Status: 429 Message: Too Many Requests URL: https://github.com/RcppCore/Rcpp/pull/933 From: inst/NEWS.Rd Status: 429 Message: Too Many Requests URL: https://github.com/RcppCore/Rcpp/pull/938 From: inst/NEWS.Rd Status: 429 Message: Too Many Requests URL: https://github.com/RcppCore/Rcpp/pull/939 From: inst/NEWS.Rd Status: 429 Message: Too Many Requests URL: https://github.com/RcppCore/Rcpp/pull/940 From: inst/NEWS.Rd Status: 429 Message: Too Many Requests URL: https://github.com/RcppCore/Rcpp/pull/942 From: inst/NEWS.Rd Status: 429 Message: Too Many Requests URL: https://github.com/RcppCore/Rcpp/pull/947 From: inst/NEWS.Rd Status: 429 Message: Too Many Requests URL: https://github.com/RcppCore/Rcpp/pull/949 From: inst/NEWS.Rd Status: 429 Message: Too Many Requests URL: https://github.com/RcppCore/Rcpp/pull/953 From: inst/NEWS.Rd Status: 429 Message: Too Many Requests URL: https://github.com/RcppCore/Rcpp/pull/954 From: inst/NEWS.Rd Status: 429 Message: Too Many Requests URL: https://github.com/RcppCore/Rcpp/pull/956 From: inst/NEWS.Rd Status: 429 Message: Too Many Requests URL: https://github.com/RcppCore/Rcpp/pull/958 From: inst/NEWS.Rd Status: 429 Message: Too Many Requests URL: https://github.com/RcppCore/Rcpp/pull/959 From: inst/NEWS.Rd Status: 429 Message: Too Many Requests URL: https://github.com/RcppCore/Rcpp/pull/963 From: inst/NEWS.Rd Status: 429 Message: Too Many Requests URL: https://github.com/RcppCore/Rcpp/pull/977 From: inst/NEWS.Rd Status: 429 Message: Too Many Requests URL: https://github.com/RcppCore/Rcpp/pull/980 From: inst/NEWS.Rd Status: 429 Message: Too Many Requests URL: https://github.com/RcppCore/Rcpp/pull/982 From: inst/NEWS.Rd Status: 429 Message: Too Many Requests URL: https://github.com/RcppCore/Rcpp/pull/995 From: inst/NEWS.Rd Status: 429 Message: Too Many Requests URL: https://github.com/RcppCore/Rcpp/pull/998 From: inst/NEWS.Rd Status: 429 Message: Too Many Requests URL: https://github.com/eddelbuettel/drat From: README.md Status: 429 Message: Too Many Requests URL: https://github.com/eddelbuettel/ldlasb From: README.md Status: 429 Message: Too Many Requests URL: https://www.amazon.com/gp/product/1461468671/ref=as_li_tl?ie=UTF8&camp=1789&creative=9325&creativeASIN=1461468671&linkCode=as2&tag=rcpp-20&linkId=3P5LNUWOAQ2YMEJ6 From: README.md Status: 500 Message: Internal Server Error * checking package namespace information ... OK * checking package dependencies ... OK * checking if this is a source package ... OK * checking if there is a namespace ... OK * checking for hidden files and directories ... OK * checking for portable file names ... OK * checking serialization versions ... OK * checking whether package 'Rcpp' can be installed ... OK * used C++ compiler: 'g++.exe (GCC) 14.2.0' * checking installed package size ... OK * checking package directory ... OK * checking for future file timestamps ... OK * checking 'build' directory ... OK * checking DESCRIPTION meta-information ... OK * checking top-level files ... OK * checking for left-over files ... OK * checking index information ... OK * checking package subdirectories ... OK * checking code files for non-ASCII characters ... OK * checking R files for syntax errors ... OK * checking whether the package can be loaded ... OK * checking whether the package can be loaded with stated dependencies ... OK * checking whether the package can be unloaded cleanly ... OK * checking whether the namespace can be loaded with stated dependencies ... OK * checking whether the namespace can be unloaded cleanly ... OK * checking loading without being on the library search path ... OK * checking whether startup messages can be suppressed ... OK * checking use of S3 registration ... OK * checking dependencies in R code ... OK * checking S3 generic/method consistency ... OK * checking replacement functions ... OK * checking foreign function calls ... NOTE Registration problem: symbol 'symbol' in the local frame: .Call(symbol) See chapter 'System and foreign language interfaces' in the 'Writing R Extensions' manual. * checking R code for possible problems ... OK * checking Rd files ... OK * checking Rd metadata ... OK * checking Rd line widths ... OK * checking Rd cross-references ... OK * checking for missing documentation entries ... OK * checking for code/documentation mismatches ... OK * checking Rd \usage sections ... OK * checking Rd contents ... OK * checking for unstated dependencies in examples ... OK * checking line endings in shell scripts ... OK * checking line endings in C/C++/Fortran sources/headers ... OK * checking line endings in Makefiles ... OK * checking compilation flags in Makevars ... OK * checking for GNU extensions in Makefiles ... OK * checking for portable use of $(BLAS_LIBS) and $(LAPACK_LIBS) ... OK * checking use of PKG_*FLAGS in Makefiles ... OK * checking use of SHLIB_OPENMP_*FLAGS in Makefiles ... OK * checking include directives in Makefiles ... OK * checking pragmas in C/C++ headers and code ... OK * checking compilation flags used ... OK * checking compiled code ... OK * checking sizes of PDF files under 'inst/doc' ... OK * checking installed files from 'inst/doc' ... OK * checking files in 'vignettes' ... OK * checking examples ... OK * checking for unstated dependencies in 'tests' ... OK * checking tests ... OK Running 'tinytest.R' * checking for unstated dependencies in vignettes ... OK * checking package vignettes ... OK * checking re-building of vignette outputs ... [112s] OK * checking PDF version of manual ... [22s] OK * checking HTML version of manual ... OK * DONE Status: 2 NOTEs