* using log directory 'd:/RCompile/CRANincoming/R-devel/RMAWGEN.Rcheck' * using R Under development (unstable) (2025-04-10 r88129 ucrt) * using platform: x86_64-w64-mingw32 * R was compiled by gcc.exe (GCC) 14.2.0 GNU Fortran (GCC) 14.2.0 * running under: Windows Server 2022 x64 (build 20348) * using session charset: UTF-8 * checking for file 'RMAWGEN/DESCRIPTION' ... OK * checking extension type ... Package * this is package 'RMAWGEN' version '1.3.9.3' * checking CRAN incoming feasibility ... [12s] NOTE Maintainer: 'Emanuele Cordano ' Found the following (possibly) invalid URLs: URL: https://www.sciencedirect.com/science/article/pii/S0022169498001863 From: man/continuity_ratio.Rd Status: 403 Message: Forbidden Please use DOIs for the following publisher URLs: https://www.sciencedirect.com/science/article/pii/S0022169498001863 Found the following URLs which should use \doi (with the DOI name only): File 'RMAWGEN-package.Rd': https://doi.org/10.19199/2016.3.2038-5625.031 * checking package namespace information ... OK * checking package dependencies ... OK * checking if this is a source package ... OK * checking if there is a namespace ... OK * checking for hidden files and directories ... OK * checking for portable file names ... OK * checking whether package 'RMAWGEN' can be installed ... OK * checking installed package size ... OK * checking package directory ... OK * checking for future file timestamps ... OK * checking DESCRIPTION meta-information ... OK * checking top-level files ... OK * checking for left-over files ... OK * checking index information ... OK * checking package subdirectories ... OK * checking code files for non-ASCII characters ... OK * checking R files for syntax errors ... OK * checking whether the package can be loaded ... OK * checking whether the package can be loaded with stated dependencies ... OK * checking whether the package can be unloaded cleanly ... OK * checking whether the namespace can be loaded with stated dependencies ... OK * checking whether the namespace can be unloaded cleanly ... OK * checking loading without being on the library search path ... OK * checking use of S3 registration ... OK * checking dependencies in R code ... OK * checking S3 generic/method consistency ... OK * checking replacement functions ... OK * checking foreign function calls ... OK * checking R code for possible problems ... [11s] OK * checking Rd files ... OK * checking Rd metadata ... OK * checking Rd line widths ... OK * checking Rd cross-references ... OK * checking for missing documentation entries ... OK * checking for code/documentation mismatches ... OK * checking Rd \usage sections ... OK * checking Rd contents ... OK * checking for unstated dependencies in examples ... OK * checking contents of 'data' directory ... OK * checking data for non-ASCII characters ... OK * checking data for ASCII and uncompressed saves ... OK * checking examples ... OK * checking PDF version of manual ... [15s] OK * checking HTML version of manual ... [11s] OK * DONE Status: 1 NOTE