* using log directory ‘/srv/hornik/tmp/CRAN_pretest/RIIM.Rcheck’
* using R Under development (unstable) (2025-03-10 r87916)
* using platform: x86_64-pc-linux-gnu
* R was compiled by
    Debian clang version 19.1.7 (1+b1)
    Debian flang-new version 19.1.7 (1+b1)
* running under: Debian GNU/Linux trixie/sid
* using session charset: UTF-8
* checking for file ‘RIIM/DESCRIPTION’ ... OK
* checking extension type ... Package
* this is package ‘RIIM’ version ‘2.0.0’
* package encoding: UTF-8
* checking CRAN incoming feasibility ... [3s/3s] NOTE
Maintainer: ‘Jianan Zhu <jz4698@nyu.edu>’

New submission

Possibly misspelled words in DESCRIPTION:
  Fogarty (18:494, 18:730)
  Kang (18:775)
  Pimentel (18:293)
  Rosenbaum (18:680)
  al (18:783)
  et (18:780)
* checking package namespace information ... OK
* checking package dependencies ... OK
* checking if this is a source package ... OK
* checking if there is a namespace ... OK
* checking for executable files ... OK
* checking for hidden files and directories ... OK
* checking for portable file names ... OK
* checking for sufficient/correct file permissions ... OK
* checking serialization versions ... OK
* checking whether package ‘RIIM’ can be installed ... [1s/1s] OK
* checking package directory ... OK
* checking for future file timestamps ... OK
* checking DESCRIPTION meta-information ... OK
* checking top-level files ... OK
* checking for left-over files ... OK
* checking index information ... OK
* checking package subdirectories ... OK
* checking code files for non-ASCII characters ... OK
* checking R files for syntax errors ... OK
* checking whether the package can be loaded ... [0s/0s] OK
* checking whether the package can be loaded with stated dependencies ... [0s/0s] OK
* checking whether the package can be unloaded cleanly ... [0s/0s] OK
* checking whether the namespace can be loaded with stated dependencies ... [0s/0s] OK
* checking whether the namespace can be unloaded cleanly ... [0s/0s] OK
* checking loading without being on the library search path ... [0s/0s] OK
* checking use of S3 registration ... OK
* checking dependencies in R code ... OK
* checking S3 generic/method consistency ... OK
* checking replacement functions ... OK
* checking foreign function calls ... OK
* checking R code for possible problems ... [3s/3s] OK
* checking Rd files ... [0s/0s] OK
* checking Rd metadata ... OK
* checking Rd line widths ... OK
* checking Rd cross-references ... OK
* checking for missing documentation entries ... OK
* checking for code/documentation mismatches ... OK
* checking Rd \usage sections ... OK
* checking Rd contents ... OK
* checking for unstated dependencies in examples ... OK
* checking examples ... [32s/3s] NOTE
Examples with CPU (user + system) or elapsed time > 5s
         user system elapsed
IPPW    7.055  0.282   1.665
IPPW_IV 6.733  0.279   0.280
Examples with CPU time > 2.5 times elapsed time
         user system elapsed  ratio
IPPW_IV 6.733  0.279   0.280 25.043
IPPW    7.055  0.282   1.665  4.407
* checking PDF version of manual ... [2s/2s] OK
* checking HTML version of manual ... [0s/0s] OK
* checking for non-standard things in the check directory ... OK
* checking for detritus in the temp directory ... OK
* DONE
Status: 2 NOTEs