* using log directory 'd:/RCompile/CRANincoming/R-devel/QualityMeasure.Rcheck' * using R Under development (unstable) (2025-10-08 r88906 ucrt) * using platform: x86_64-w64-mingw32 * R was compiled by gcc.exe (GCC) 14.2.0 GNU Fortran (GCC) 14.2.0 * running under: Windows Server 2022 x64 (build 20348) * using session charset: UTF-8 * checking for file 'QualityMeasure/DESCRIPTION' ... OK * this is package 'QualityMeasure' version '2.0.0' * package encoding: UTF-8 * checking CRAN incoming feasibility ... NOTE Maintainer: 'Kenneth Nieser ' New submission The Title field should be in title case. Current version is: 'A package to assist with the analysis of health care quality measure performance' In title case that is: 'A Package to Assist with the Analysis of Health Care Quality Measure Performance' The Description field should not start with the package name, 'This package' or similar. * checking package namespace information ... OK * checking package dependencies ... OK * checking if this is a source package ... OK * checking if there is a namespace ... OK * checking for hidden files and directories ... OK * checking for portable file names ... OK * checking whether package 'QualityMeasure' can be installed ... OK * checking installed package size ... OK * checking package directory ... OK * checking for future file timestamps ... OK * checking 'build' directory ... OK * checking DESCRIPTION meta-information ... OK * checking top-level files ... OK * checking for left-over files ... OK * checking index information ... OK * checking package subdirectories ... OK * checking code files for non-ASCII characters ... OK * checking R files for syntax errors ... OK * checking whether the package can be loaded ... OK * checking whether the package can be loaded with stated dependencies ... OK * checking whether the package can be unloaded cleanly ... OK * checking whether the namespace can be loaded with stated dependencies ... OK * checking whether the namespace can be unloaded cleanly ... OK * checking loading without being on the library search path ... OK * checking whether startup messages can be suppressed ... OK * checking use of S3 registration ... OK * checking dependencies in R code ... OK * checking S3 generic/method consistency ... OK * checking replacement functions ... OK * checking foreign function calls ... OK * checking R code for possible problems ... [20s] NOTE misclassification_analysis: no visible binding for global variable '.data' plotCalibration: no visible binding for global variable '.data' plotEstimates: no visible binding for global variable '.data' plotPerformance: no visible binding for global variable '.data' plotPredictedDistribution: no visible binding for global variable '.data' plotReliability: no visible binding for global variable '.data' plotSSR: no visible binding for global variable '.data' Undefined global functions or variables: .data * checking Rd files ... OK * checking Rd metadata ... OK * checking Rd line widths ... OK * checking Rd cross-references ... OK * checking for missing documentation entries ... OK * checking for code/documentation mismatches ... OK * checking Rd \usage sections ... OK * checking Rd contents ... OK * checking for unstated dependencies in examples ... OK * checking contents of 'data' directory ... OK * checking data for non-ASCII characters ... OK * checking LazyData ... OK * checking data for ASCII and uncompressed saves ... OK * checking installed files from 'inst/doc' ... OK * checking files in 'vignettes' ... OK * checking examples ... [152s] NOTE Examples with CPU (user + system) or elapsed time > 10s user system elapsed plotReliability 20.81 1.44 47.75 calcReliability 20.87 1.33 49.87 calcSSR 1.08 0.06 19.19 * checking for unstated dependencies in 'tests' ... OK * checking tests ... [160s] OK Running 'testthat.R' [160s] * checking for unstated dependencies in vignettes ... OK * checking package vignettes ... OK * checking re-building of vignette outputs ... [23m] OK * checking PDF version of manual ... [19s] OK * checking HTML version of manual ... OK * DONE Status: 3 NOTEs