* using log directory ‘/srv/hornik/tmp/CRAN_pretest/PoSIAdjRSquared.Rcheck’ * using R Under development (unstable) (2025-07-03 r88378) * using platform: x86_64-pc-linux-gnu * R was compiled by Debian clang version 19.1.7 (3) Debian flang-new version 19.1.7 (3) * running under: Debian GNU/Linux 13 (trixie) * using session charset: UTF-8 * checking for file ‘PoSIAdjRSquared/DESCRIPTION’ ... OK * this is package ‘PoSIAdjRSquared’ version ‘0.1.0’ * package encoding: UTF-8 * checking CRAN incoming feasibility ... [4s/5s] OK * checking package namespace information ... OK * checking package dependencies ... OK * checking if this is a source package ... OK * checking if there is a namespace ... OK * checking for executable files ... OK * checking for hidden files and directories ... OK * checking for portable file names ... OK * checking for sufficient/correct file permissions ... OK * checking serialization versions ... OK * checking whether package ‘PoSIAdjRSquared’ can be installed ... [2s/2s] OK * checking package directory ... OK * checking for future file timestamps ... OK * checking DESCRIPTION meta-information ... OK * checking top-level files ... OK * checking for left-over files ... OK * checking index information ... OK * checking package subdirectories ... OK * checking code files for non-ASCII characters ... OK * checking R files for syntax errors ... OK * checking whether the package can be loaded ... [0s/0s] OK * checking whether the package can be loaded with stated dependencies ... [0s/0s] OK * checking whether the package can be unloaded cleanly ... [0s/0s] OK * checking whether the namespace can be loaded with stated dependencies ... [0s/0s] OK * checking whether the namespace can be unloaded cleanly ... [0s/0s] OK * checking loading without being on the library search path ... [0s/0s] OK * checking use of S3 registration ... OK * checking dependencies in R code ... OK * checking S3 generic/method consistency ... OK * checking replacement functions ... OK * checking foreign function calls ... OK * checking R code for possible problems ... [4s/4s] NOTE selective_inference: no visible binding for global variable ‘size’ selective_inference: no visible global function definition for ‘sd’ Undefined global functions or variables: sd size Consider adding importFrom("stats", "sd") to your NAMESPACE file. * checking Rd files ... [0s/0s] OK * checking Rd metadata ... OK * checking Rd line widths ... NOTE Rd file 'selective_inference.Rd': \examples lines wider than 100 characters: selective_inference(y, X, intercept=FALSE, model_set = "fit_all_subset_linear_models", alpha=0.05, confidence_interval=TRUE) These lines will be truncated in the PDF manual. * checking Rd cross-references ... OK * checking for missing documentation entries ... OK * checking for code/documentation mismatches ... OK * checking Rd \usage sections ... OK * checking Rd contents ... OK * checking for unstated dependencies in examples ... OK * checking examples ... [4s/4s] OK * checking PDF version of manual ... [3s/3s] OK * checking HTML version of manual ... [0s/0s] OK * checking for non-standard things in the check directory ... OK * checking for detritus in the temp directory ... OK * DONE Status: 2 NOTEs