* using log directory ‘/srv/hornik/tmp/CRAN_pretest/PlotFTIR.Rcheck’ * using R Under development (unstable) (2024-11-03 r87286) * using platform: x86_64-pc-linux-gnu * R was compiled by Debian clang version 19.1.1 (1) Debian flang-new version 19.1.1 (1) * running under: Debian GNU/Linux trixie/sid * using session charset: UTF-8 * checking for file ‘PlotFTIR/DESCRIPTION’ ... OK * checking extension type ... Package * this is package ‘PlotFTIR’ version ‘1.0.0’ * package encoding: UTF-8 * checking CRAN incoming feasibility ... [4s/6s] NOTE Maintainer: ‘Philip Bulsink ’ New submission License components with restrictions and base license permitting such: GPL (>= 3) + file LICENSE File 'LICENSE': YEAR: 2024 COPYRIGHT HOLDER: His Majesty the King in Right of Canada, as represented by the Minister of Natural Resources, 2024 This program is free software: you can redistribute it and/or modify it under the terms of the GNU General Public License as published by the Free Software Foundation, either version 3 of the License, or (at your option) any later version. This program is distributed in the hope that it will be useful, but WITHOUT ANY WARRANTY; without even the implied warranty of MERCHANTABILITY or FITNESS FOR A PARTICULAR PURPOSE. See the GNU General Public License for more details. You should have received a copy of the GNU General Public License along with this program. If not, see . Possibly misspelled words in DESCRIPTION: FTIR (3:13, 11:136) IRTF (12:160) L'objectif (12:5) PlotFTIR (11:27, 12:20) dans (12:185) davantage (12:278) de (12:16, 12:34, 12:106, 12:148, 12:166, 12:201) des (12:85) directement (12:254) démarrer (12:37) et (12:57) facilement (12:46) fonctions (12:296) ggplot (11:168, 11:245, 12:204, 12:306) infrarouge (12:123) l'aide (12:194) les (12:292) modifiés (12:269) ou (12:266) peuvent (12:233) produits (12:224) publiés (12:246) qualité (12:169) rapidement (12:60) spectraux (12:96) spectroscopie (12:109) tracés (12:89, 12:217) transformée (12:136) être (12:241) Found the following (possibly) invalid file URI: URI: CODE_OF_CONDUCT.md From: README.md * checking package namespace information ... OK * checking package dependencies ... OK * checking if this is a source package ... OK * checking if there is a namespace ... OK * checking for executable files ... OK * checking for hidden files and directories ... OK * checking for portable file names ... OK * checking for sufficient/correct file permissions ... OK * checking serialization versions ... OK * checking whether package ‘PlotFTIR’ can be installed ... [2s/2s] OK * checking package directory ... OK * checking for future file timestamps ... OK * checking ‘build’ directory ... OK * checking DESCRIPTION meta-information ... OK * checking top-level files ... OK * checking for left-over files ... OK * checking index information ... OK * checking package subdirectories ... OK * checking code files for non-ASCII characters ... OK * checking R files for syntax errors ... OK * checking whether the package can be loaded ... [0s/0s] OK * checking whether the package can be loaded with stated dependencies ... [0s/0s] OK * checking whether the package can be unloaded cleanly ... [0s/0s] OK * checking whether the namespace can be loaded with stated dependencies ... [0s/0s] OK * checking whether the namespace can be unloaded cleanly ... [0s/0s] OK * checking loading without being on the library search path ... [0s/0s] OK * checking use of S3 registration ... OK * checking dependencies in R code ... OK * checking S3 generic/method consistency ... OK * checking replacement functions ... OK * checking foreign function calls ... OK * checking R code for possible problems ... [3s/3s] OK * checking Rd files ... [0s/0s] OK * checking Rd metadata ... OK * checking Rd line widths ... OK * checking Rd cross-references ... OK * checking for missing documentation entries ... OK * checking for code/documentation mismatches ... OK * checking Rd \usage sections ... OK * checking Rd contents ... OK * checking for unstated dependencies in examples ... OK * checking contents of ‘data’ directory ... OK * checking data for non-ASCII characters ... [0s/0s] OK * checking LazyData ... OK * checking data for ASCII and uncompressed saves ... OK * checking installed files from ‘inst/doc’ ... OK * checking files in ‘vignettes’ ... OK * checking examples ... [5s/5s] OK * checking for unstated dependencies in ‘tests’ ... OK * checking tests ... [10s/10s] OK Running ‘testthat.R’ [9s/9s] * checking for unstated dependencies in vignettes ... OK * checking package vignettes ... OK * checking re-building of vignette outputs ... [57s/57s] OK * checking PDF version of manual ... [3s/3s] OK * checking HTML version of manual ... [1s/1s] OK * checking for non-standard things in the check directory ... OK * checking for detritus in the temp directory ... OK * DONE Status: 1 NOTE