* using log directory ‘/srv/hornik/tmp/CRAN_pretest/PVBcorrect.Rcheck’ * using R Under development (unstable) (2025-10-01 r88895) * using platform: x86_64-pc-linux-gnu * R was compiled by Debian clang version 19.1.7 (3+b1) Debian flang-new version 19.1.7 (3+b1) * running under: Debian GNU/Linux forky/sid * using session charset: UTF-8 * checking for file ‘PVBcorrect/DESCRIPTION’ ... OK * checking extension type ... Package * this is package ‘PVBcorrect’ version ‘0.3.1’ * package encoding: UTF-8 * checking CRAN incoming feasibility ... [4s/5s] NOTE Maintainer: ‘Wan Nor Arifin ’ New submission Possibly misspelled words in DESCRIPTION: Arifin (27:9, 28:56) Barnhart (23:19) Begg (19:21) Greenes (19:30) Harel (22:5) Kosinski (23:8) Nahorniak (26:18) PVB (13:50, 14:29) Pepe (19:60, 24:49) Yusof (27:18, 28:65) Zhou (22:13) al (20:59, 26:31) deGroot (20:48) et (20:56, 26:28) * checking package namespace information ... OK * checking package dependencies ... OK * checking if this is a source package ... OK * checking if there is a namespace ... OK * checking for executable files ... OK * checking for hidden files and directories ... OK * checking for portable file names ... OK * checking for sufficient/correct file permissions ... OK * checking serialization versions ... OK * checking whether package ‘PVBcorrect’ can be installed ... [2s/2s] OK * checking package directory ... OK * checking for future file timestamps ... OK * checking DESCRIPTION meta-information ... OK * checking top-level files ... OK * checking for left-over files ... OK * checking index information ... OK * checking package subdirectories ... OK * checking code files for non-ASCII characters ... OK * checking R files for syntax errors ... OK * checking whether the package can be loaded ... [0s/0s] OK * checking whether the package can be loaded with stated dependencies ... [0s/0s] OK * checking whether the package can be unloaded cleanly ... [0s/0s] OK * checking whether the namespace can be loaded with stated dependencies ... [0s/0s] OK * checking whether the namespace can be unloaded cleanly ... [0s/0s] OK * checking loading without being on the library search path ... [0s/0s] OK * checking use of S3 registration ... OK * checking dependencies in R code ... OK * checking S3 generic/method consistency ... OK * checking replacement functions ... OK * checking foreign function calls ... OK * checking R code for possible problems ... [3s/3s] OK * checking Rd files ... [0s/0s] OK * checking Rd metadata ... OK * checking Rd line widths ... OK * checking Rd cross-references ... OK * checking for missing documentation entries ... OK * checking for code/documentation mismatches ... OK * checking Rd \usage sections ... OK * checking Rd contents ... OK * checking for unstated dependencies in examples ... OK * checking contents of ‘data’ directory ... OK * checking data for non-ASCII characters ... [0s/0s] OK * checking LazyData ... OK * checking data for ASCII and uncompressed saves ... OK * checking examples ... [13s/13s] OK * checking for unstated dependencies in ‘tests’ ... OK * checking tests ... [0s/0s] OK Running ‘testthat.R’ [0s/0s] * checking PDF version of manual ... [3s/3s] OK * checking HTML version of manual ... [1s/1s] OK * checking for non-standard things in the check directory ... OK * checking for detritus in the temp directory ... OK * DONE Status: 1 NOTE