* using log directory ‘/srv/hornik/tmp/CRAN_pretest/MultiATSM.Rcheck’ * using R Under development (unstable) (2025-10-20 r88955) * using platform: x86_64-pc-linux-gnu * R was compiled by Debian clang version 19.1.7 (7) Debian flang-new version 19.1.7 (7) * running under: Debian GNU/Linux forky/sid * using session charset: UTF-8 * checking for file ‘MultiATSM/DESCRIPTION’ ... OK * checking extension type ... Package * this is package ‘MultiATSM’ version ‘1.5.0’ * package encoding: UTF-8 * checking CRAN incoming feasibility ... [5s/7s] NOTE Maintainer: ‘Rubens Moura ’ Possibly misspelled words in DESCRIPTION: ATSMs (9:123) JBES (9:631) Rudebusch (9:607) Found the following (possibly) invalid file URI: URI: Guidelines.html From: inst/doc/Paper-Replications.html Found the following (possibly) invalid DOIs: DOI: /10.1080/07350015.2012.693855 From: DESCRIPTION Status: 404 Message: Not Found * checking package namespace information ... OK * checking package dependencies ... OK * checking if this is a source package ... OK * checking if there is a namespace ... OK * checking for executable files ... OK * checking for hidden files and directories ... OK * checking for portable file names ... OK * checking for sufficient/correct file permissions ... OK * checking whether package ‘MultiATSM’ can be installed ... [8s/8s] OK * checking package directory ... OK * checking for future file timestamps ... OK * checking ‘build’ directory ... OK * checking DESCRIPTION meta-information ... OK * checking top-level files ... OK * checking for left-over files ... OK * checking index information ... OK * checking package subdirectories ... OK * checking code files for non-ASCII characters ... OK * checking R files for syntax errors ... OK * checking whether the package can be loaded ... [1s/1s] OK * checking whether the package can be loaded with stated dependencies ... [1s/1s] OK * checking whether the package can be unloaded cleanly ... [1s/1s] OK * checking whether the namespace can be loaded with stated dependencies ... [1s/1s] OK * checking whether the namespace can be unloaded cleanly ... [1s/1s] OK * checking loading without being on the library search path ... [1s/1s] OK * checking use of S3 registration ... OK * checking dependencies in R code ... OK * checking S3 generic/method consistency ... OK * checking replacement functions ... OK * checking foreign function calls ... OK * checking R code for possible problems ... [18s/18s] OK * checking Rd files ... [1s/1s] OK * checking Rd metadata ... OK * checking Rd line widths ... OK * checking Rd cross-references ... OK * checking for missing documentation entries ... OK * checking for code/documentation mismatches ... OK * checking Rd \usage sections ... OK * checking Rd contents ... OK * checking for unstated dependencies in examples ... OK * checking contents of ‘data’ directory ... OK * checking data for non-ASCII characters ... [0s/0s] OK * checking LazyData ... OK * checking data for ASCII and uncompressed saves ... OK * checking installed files from ‘inst/doc’ ... OK * checking files in ‘vignettes’ ... OK * checking examples ... [10s/10s] OK * checking for unstated dependencies in ‘tests’ ... OK * checking tests ... [10m/10m] OK Running ‘testthat.R’ [10m/10m] * checking for unstated dependencies in vignettes ... OK * checking package vignettes ... OK * checking re-building of vignette outputs ... [29s/29s] OK * checking PDF version of manual ... [7s/7s] OK * checking HTML version of manual ... [4s/4s] NOTE Found the following HTML validation problems: AdjustOptm_BS.html:62:1 (AdjustOptm_BS.Rd:18): Warning: missing before AdjustPathFEVDs.html:62:1 (AdjustPathFEVDs.Rd:18): Warning: missing before AdjustPathIRFs.html:62:1 (AdjustPathIRFs.Rd:18): Warning: missing before AdjustYieldsDates.html:54:1 (AdjustYieldsDates.Rd:14): Warning: missing before Adjust_Const_Type.html:46:1 (Adjust_Const_Type.Rd:10): Warning: missing before Aux_BlockDiag.html:58:1 (Aux_BlockDiag.Rd:16): Warning: missing before Aux_JLLstruct.html:62:1 (Aux_JLLstruct.Rd:18): Warning: missing before Aux_Jordan.html:62:1 (Aux_Jordan.Rd:18): Warning: missing before Aux_PSD.html:50:1 (Aux_PSD.Rd:12): Warning: missing before BUnspannedAdapJoint.html:66:1 (BUnspannedAdapJoint.Rd:20): Warning: missing before BUnspannedAdapSep.html:66:1 (BUnspannedAdapSep.Rd:20): Warning: missing before BUnspannedAdapSep_BS.html:70:1 (BUnspannedAdapSep_BS.Rd:22): Warning: missing before Boot_DataGraphFact_perShock.html:93:1 (Boot_DataGraphFact_perShock.Rd:39): Warning: missing before Boot_DataGraphYield_perShock.html:98:1 (Boot_DataGraphYield_perShock.Rd:42): Warning: missing before Boot_Fac_Graphs.html:98:1 (Boot_Fac_Graphs.Rd:42): Warning: missing before Boot_Yields_Graphs.html:99:1 (Boot_Yields_Graphs.Rd:43): Warning: missing before Boot_graph_template.html:50:1 (Boot_graph_template.Rd:12): Warning: missing before BootstrapBoundsSet.html:78:1 (BootstrapBoundsSet.Rd:30): Warning: missing before BuildCI_Yields.html:83:1 (BuildCI_Yields.Rd:33): Warning: missing before BuildFEVDlist.html:78:1 (BuildFEVDlist.Rd:30): Warning: missing before BuildGVAR.html:66:1 (BuildGVAR.Rd:20): Warning: missing before BuildIRFlist.html:66:1 (BuildIRFlist.Rd:20): Warning: missing before BuildLinkMat.html:54:1 (BuildLinkMat.Rd:14): Warning: missing before BuildRiskFactors_BS.html:108:1 (BuildRiskFactors_BS.Rd:48): Warning: missing before BuildYields_BS.html:73:1 (BuildYields_BS.Rd:27): Warning: missing before CheckInput_K1X.html:54:1 (CheckInput_K1X.Rd:14): Warning: missing before CheckInputsForMLE.html:105:1 (CheckInputsForMLE.Rd:47): Warning: missing before CheckInputsGVAR.html:50:1 (CheckInputsGVAR.Rd:12): Warning: missing before CheckJLLinputs.html:50:1 (CheckJLLinputs.Rd:12): Warning: missing before Check_comparison_NoBC.html:98:1 (Check_comparison_NoBC.Rd:42): Warning: missing before Check_label_consistency.html:68:1 (Check_label_consistency.Rd:24): Warning: missing before ChecksOOS.html:62:1 (ChecksOOS.Rd:18): Warning: missing before CleanOrthoJLL_Boot.html:54:1 (CleanOrthoJLL_Boot.Rd:14): Warning: missing before ComputeBounds_FEVDandGFEVD.html:83:1 (ComputeBounds_FEVDandGFEVD.Rd:33): Warning: missing before ComputeBounds_IRFandGIRF.html:83:1 (ComputeBounds_IRFandGIRF.Rd:33): Warning: missing before ComputeGIRFs.html:120:1 (ComputeGIRFs.Rd:56): Warning: missing before ComputeIRFs.html:103:1 (ComputeIRFs.Rd:45): Warning: missing before Compute_BnX_AnX.html:78:1 (Compute_BnX_AnX.Rd:26): Warning: missing before Compute_EP.html:98:1 (Compute_EP.Rd:42): Warning: missing before Est_K1h.html:62:1 (Est_K1h.Rd:18): Warning: missing before ExpectedComponent.html:74:1 (ExpectedComponent.Rd:28): Warning: missing before FEVDandGFEVD_BS.html:62:1 (FEVDandGFEVD_BS.Rd:18): Warning: missing before FEVDandGFEVDbs.html:83:1 (FEVDandGFEVDbs.Rd:33): Warning: missing before FEVDandGFEVDs_Graphs.html:62:1 (FEVDandGFEVDs_Graphs.Rd:18): Warning: missing before FacQuantile_bs.html:88:1 (FacQuantile_bs.Rd:36): Warning: missing before FactorBounds_FEVDandGFEVD.html:83:1 (FactorBounds_FEVDandGFEVD.Rd:33): Warning: missing before FactorBounds_IRFandGIRF.html:83:1 (FactorBounds_IRFandGIRF.Rd:33): Warning: missing before Factors_NonOrtho.html:58:1 (Factors_NonOrtho.Rd:16): Warning: missing before FeedMat_M.html:88:1 (FeedMat_M.Rd:36): Warning: missing before FeedbackMat_BS.html:88:1 (FeedbackMat_BS.Rd:36): Warning: missing before Fit_Subplot.html:83:1 (Fit_Subplot.Rd:33): Warning: missing before FolderCreationBoot.html:54:1 (FolderCreationBoot.Rd:14): Warning: missing before FolderCreationPoint.html:54:1 (FolderCreationPoint.Rd:14): Warning: missing before FolderCreation_Boot.html:73:1 (FolderCreation_Boot.Rd:27): Warning: missing before FolderPrep_FEVDs.html:73:1 (FolderPrep_FEVDs.Rd:27): Warning: missing before FolderPrep_IRFs.html:73:1 (FolderPrep_IRFs.Rd:27): Warning: missing before ForwardPremia.html:74:1 (ForwardPremia.Rd:28): Warning: missing before FunctionML_vec.html:88:1 (FunctionML_vec.Rd:36): Warning: missing before GVAR_PrepFactors.html:62:1 (GVAR_PrepFactors.Rd:18): Warning: missing before Gather_Forecasts.html:58:1 (Gather_Forecasts.Rd:16): Warning: missing before Gen_Artificial_Series.html:113:1 (Gen_Artificial_Series.Rd:51): Warning: missing before Gen_Forecast_Yields.html:98:1 (Gen_Forecast_Yields.Rd:42): Warning: missing before Gen_art_series.html:54:1 (Gen_art_series.Rd:14): Warning: missing before GeneralMLEInputs.html:86:1 (GeneralMLEInputs.Rd:36): Warning: missing before GetAuxPara.html:92:1 (GetAuxPara.Rd:33): Warning: missing before GetLabels_JLL.html:54:1 (GetLabels_JLL.Rd:14): Warning: missing before GetLabels_sepQ.html:54:1 (GetLabels_sepQ.Rd:14): Warning: missing before GetPdynPara.html:88:1 (GetPdynPara.Rd:36): Warning: missing before GetPdynPara_BC.html:83:1 (GetPdynPara_BC.Rd:33): Warning: missing before GetPdynPara_NoBC.html:74:1 (GetPdynPara_NoBC.Rd:28): Warning: missing before GetTruePara.html:97:1 (GetTruePara.Rd:36): Warning: missing before GetYields_AllCountries.html:54:1 (GetYields_AllCountries.Rd:14): Warning: missing before Get_As.html:66:1 (Get_As.Rd:20): Warning: missing before Get_BFull.html:62:1 (Get_BFull.Rd:18): Warning: missing before Get_Bs.html:74:1 (Get_Bs.Rd:24): Warning: missing before Get_FeedMat_NoBC.html:74:1 (Get_FeedMat_NoBC.Rd:28): Warning: missing before Get_G0G1Sigma.html:62:1 (Get_G0G1Sigma.Rd:18): Warning: missing before Get_Gy1.html:58:1 (Get_Gy1.Rd:16): Warning: missing before Get_SSZ_BC.html:66:1 (Get_SSZ_BC.Rd:20): Warning: missing before Get_SigmaYields.html:66:1 (Get_SigmaYields.Rd:20): Warning: missing before Get_Sigma_JLL.html:62:1 (Get_Sigma_JLL.Rd:18): Warning: missing before Get_Unspanned.html:58:1 (Get_Unspanned.Rd:16): Warning: missing before Get_a0.html:50:1 (Get_a0.Rd:12): Warning: missing before Get_llk.html:94:1 (Get_llk.Rd:34): Warning: missing before Get_r0.html:82:1 (Get_r0.Rd:28): Warning: missing before Getdt.html:47:1 (Getdt.Rd:11): Warning: missing before GraphicalOutputs.html:83:1 (GraphicalOutputs.Rd:33): Warning: missing before IRFandGIRF_BS.html:62:1 (IRFandGIRF_BS.Rd:18): Warning: missing before IRFandGIRFbs.html:83:1 (IRFandGIRFbs.Rd:33): Warning: missing before IRFandGIRFs_Format_Fac.html:46:1 (IRFandGIRFs_Format_Fac.Rd:10): Warning: missing before IRFandGIRFs_Format_Yields.html:46:1 (IRFandGIRFs_Format_Yields.Rd:10): Warning: missing before IdxAllSpanned.html:54:1 (IdxAllSpanned.Rd:14): Warning: missing before IdxSpanned.html:58:1 (IdxSpanned.Rd:16): Warning: missing before Idx_UnspanFact.html:54:1 (Idx_UnspanFact.Rd:14): Warning: missing before ImposeStat_Aux.html:54:1 (ImposeStat_Aux.Rd:14): Warning: missing before ImposeStat_True.html:58:1 (ImposeStat_True.Rd:16): Warning: missing before Intra_Yields.html:54:1 (Intra_Yields.Rd:14): Warning: missing before InvMat_Robust.html:46:1 (InvMat_Robust.Rd:10): Warning: missing before Jordan_JLL.html:54:1 (Jordan_JLL.Rd:14): Warning: missing before K1XQStationary.html:47:1 (K1XQStationary.Rd:11): Warning: missing before LabelsSpanned.html:46:1 (LabelsSpanned.Rd:10): Warning: missing before LabelsStar.html:46:1 (LabelsStar.Rd:10): Warning: missing before ML_stable.html:50:1 (ML_stable.Rd:12): Warning: missing before MLtemporary.html:54:1 (MLtemporary.Rd:14): Warning: missing before MarginalModelPara.html:46:1 (MarginalModelPara.Rd:10): Warning: missing before MatAdjusted.html:50:1 (MatAdjusted.Rd:12): Warning: missing before MergeFEVD_graphs.html:50:1 (MergeFEVD_graphs.Rd:12): Warning: missing before NoOrthoVAR_JLL.html:50:1 (NoOrthoVAR_JLL.Rd:12): Warning: missing before NumOutputs_Bootstrap.html:68:1 (NumOutputs_Bootstrap.Rd:24): Warning: missing before OOS_Forecast.html:78:1 (OOS_Forecast.Rd:30): Warning: missing before OptOutputs.html:153:1 (OptOutputs.Rd:75): Warning: missing before OptimizationSetup_ATSM.html:62:1 (OptimizationSetup_ATSM.Rd:18): Warning: missing before Optimization_PE.html:124:1 (Optimization_PE.Rd:54): Warning: missing before Optimization_Time.html:50:1 (Optimization_Time.Rd:12): Warning: missing before OrthoReg_JLL.html:62:1 (OrthoReg_JLL.Rd:18): Warning: missing before OrthoVAR_JLL.html:62:1 (OrthoVAR_JLL.Rd:18): Warning: missing before OutputConstruction.html:76:1 (OutputConstruction.Rd:29): Warning: missing before Outputs2exportMLE.html:89:1 (Outputs2exportMLE.Rd:37): Warning: missing before ParaLabelsOpt.html:59:1 (ParaLabelsOpt.Rd:17): Warning: missing before PdynResid_BS.html:54:1 (PdynResid_BS.Rd:14): Warning: missing before RMSE.html:46:1 (RMSE.Rd:10): Warning: missing before ResampleResiduals_BS.html:68:1 (ResampleResiduals_BS.Rd:24): Warning: missing before RootEigen.html:54:1 (RootEigen.Rd:14): Warning: missing before Rotate_Lat_Obs.html:54:1 (Rotate_Lat_Obs.Rd:14): Warning: missing before SA_algorithm.html:88:1 (SA_algorithm.Rd:36): Warning: missing before SpecificMLEInputs.html:140:1 (SpecificMLEInputs.Rd:57): Warning: missing before TermPremia.html:58:1 (TermPremia.Rd:16): Warning: missing before TermPremiaDecomp.html:69:1 (TermPremiaDecomp.Rd:25): Warning: missing before TimeVarWeights_GVAR.html:73:1 (TimeVarWeights_GVAR.Rd:27): Warning: missing before True_BlockDiag.html:62:1 (True_BlockDiag.Rd:18): Warning: missing before True_JLLstruct.html:62:1 (True_JLLstruct.Rd:18): Warning: missing before True_Jordan.html:58:1 (True_Jordan.Rd:16): Warning: missing before True_PSD.html:50:1 (True_PSD.Rd:12): Warning: missing before Update_ParaList.html:78:1 (Update_ParaList.Rd:30): Warning: missing before Update_SSZ_JLL.html:58:1 (Update_SSZ_JLL.Rd:16): Warning: missing before VARX.html:66:1 (VARX.Rd:20): Warning: missing before VarianceExplained.html:58:1 (VarianceExplained.Rd:16): Warning: missing before WishGraphs_FEVDandGFEVD_Boot.html:50:1 (WishGraphs_FEVDandGFEVD_Boot.Rd:12): Warning: missing before WishGraphs_IRFandGIRF_Boot.html:50:1 (WishGraphs_IRFandGIRF_Boot.Rd:12): Warning: missing before Wished_Graphs_FEVDandGFEVD.html:54:1 (Wished_Graphs_FEVDandGFEVD.Rd:14): Warning: missing before Wished_Graphs_IRFandGIRF.html:54:1 (Wished_Graphs_IRFandGIRF.Rd:14): Warning: missing before Y_Fit.html:66:1 (Y_Fit.Rd:20): Warning: missing before Y_ModImp.html:74:1 (Y_ModImp.Rd:24): Warning: missing before YieldBounds_FEVDandGFEVD.html:88:1 (YieldBounds_FEVDandGFEVD.Rd:36): Warning: missing before YieldBounds_IRFandGIRF.html:88:1 (YieldBounds_IRFandGIRF.Rd:36): Warning: missing before YieldFor.html:73:1 (YieldFor.Rd:27): Warning: missing before YieldQuantile_bs.html:93:1 (YieldQuantile_bs.Rd:39): Warning: missing before YieldsFitAll.html:66:1 (YieldsFitAll.Rd:20): Warning: missing before autoplot.ATSMModelBoot.html:61:1 (autoplot.ATSMModelBoot.Rd:18): Warning: missing before autoplot.ATSMNumOutputs.html:58:1 (autoplot.ATSMNumOutputs.Rd:17): Warning: missing before autoplot.html:50:1 (autoplot.Rd:12): Warning: missing before check_numeric.html:50:1 (check_numeric.Rd:12): Warning: missing before plot.ATSMModelForecast.html:51:1 (plot.ATSMModelForecast.Rd:12): Warning: missing before pos_map.html:46:1 (pos_map.Rd:10): Warning: missing before print.ATSMModelInputs.html:51:1 (print.ATSMModelInputs.Rd:12): Warning: missing before residY_original.html:58:1 (residY_original.Rd:16): Warning: missing before rhoParas.html:58:1 (rhoParas.Rd:16): Warning: missing before richardson_diff.html:66:1 (richardson_diff.Rd:20): Warning: missing before safe_solve.html:62:1 (safe_solve.Rd:18): Warning: missing before scaling_from_jacobian.html:46:1 (scaling_from_jacobian.Rd:10): Warning: missing before shrink_FeedMat_BC.html:54:1 (shrink_FeedMat_BC.Rd:14): Warning: missing before summary.ATSMModelInputs.html:51:1 (summary.ATSMModelInputs.Rd:12): Warning: missing before summary.ATSMModelOutputs.html:51:1 (summary.ATSMModelOutputs.Rd:12): Warning: missing before withDefault.html:50:1 (withDefault.Rd:12): Warning: missing before * checking for non-standard things in the check directory ... OK * checking for detritus in the temp directory ... OK * DONE Status: 2 NOTEs