* using log directory 'd:/RCompile/CRANincoming/R-devel/MSUthemes.Rcheck' * using R Under development (unstable) (2025-10-10 r88914 ucrt) * using platform: x86_64-w64-mingw32 * R was compiled by gcc.exe (GCC) 14.2.0 GNU Fortran (GCC) 14.2.0 * running under: Windows Server 2022 x64 (build 20348) * using session charset: UTF-8 * checking for file 'MSUthemes/DESCRIPTION' ... OK * checking extension type ... Package * this is package 'MSUthemes' version '1.29339466' * package encoding: UTF-8 * checking CRAN incoming feasibility ... NOTE Maintainer: 'Emilio Xavier Esposito ' New submission Version contains large components (1.29339466) Possibly misspelled words in DESCRIPTION: MSU (3:8, 16:15) No Authors@R field in DESCRIPTION. Please add one, modifying Authors@R: c(person(given = "Authors@R:", family = "c", role = "aut", comment = "\"aut\", \"cre\", \"cph\""), person(family = "email=\"emilio.esposito@gmail.com\"", role = "aut"), person(family = "comment=c)", role = "aut", comment = "ORCID=\"0000-0002-6193-0485\",\n \"GitHub: https://github.com/emilioxavier\""), person(family = "person", role = "aut", comment = "\"aut\""), person(given = c("email", "=", "\"nrennie35@gmail.com\")"), family = "person))", role = "aut", comment = "\"fnd\""), person(given = c("Emilio", "Xavier"), family = "Esposito", role = "cre", email = "emilio.esposito@gmail.com")) as necessary. Author field should be Authors@R. Current value is: Authors@R: c( person(given="Emilio Xavier", family="Esposito", role=c("aut", "cre", "cph"), email="emilio.esposito@gmail.com", comment=c(ORCID="0000-0002-6193-0485", "GitHub: https://github.com/emilioxavier")), person(given = "Nicola", family = "Rennie", role = c("aut"), email = "nrennie35@gmail.com") person("Michigan State University", role = c("fnd"))) Found the following (possibly) invalid URLs: URL: https://cran.rstudio.com/web/packages/showtext/vignettes/introduction.html From: README.md Status: 200 Message: OK CRAN URL not in canonical form Canonical CRAN.R-project.org URLs use https. Found the following (possibly) invalid file URI: URI: CodeOfConduct.md From: README.md * checking package namespace information ... OK * checking package dependencies ... OK * checking if this is a source package ... OK * checking if there is a namespace ... OK * checking for hidden files and directories ... OK * checking for portable file names ... OK * checking whether package 'MSUthemes' can be installed ... OK * checking installed package size ... OK * checking package directory ... OK * checking for future file timestamps ... OK * checking 'build' directory ... OK * checking DESCRIPTION meta-information ... OK * checking top-level files ... OK * checking for left-over files ... OK * checking index information ... OK * checking package subdirectories ... OK * checking code files for non-ASCII characters ... OK * checking R files for syntax errors ... OK * checking whether the package can be loaded ... OK * checking whether the package can be loaded with stated dependencies ... OK * checking whether the package can be unloaded cleanly ... OK * checking whether the namespace can be loaded with stated dependencies ... OK * checking whether the namespace can be unloaded cleanly ... OK * checking loading without being on the library search path ... OK * checking whether startup messages can be suppressed ... OK * checking use of S3 registration ... OK * checking dependencies in R code ... OK * checking S3 generic/method consistency ... OK * checking replacement functions ... OK * checking foreign function calls ... OK * checking R code for possible problems ... OK * checking Rd files ... OK * checking Rd metadata ... OK * checking Rd line widths ... OK * checking Rd cross-references ... OK * checking for missing documentation entries ... OK * checking for code/documentation mismatches ... OK * checking Rd \usage sections ... OK * checking Rd contents ... OK * checking for unstated dependencies in examples ... OK * checking contents of 'data' directory ... OK * checking data for non-ASCII characters ... OK * checking LazyData ... OK * checking data for ASCII and uncompressed saves ... OK * checking installed files from 'inst/doc' ... OK * checking files in 'vignettes' ... OK * checking examples ... OK * checking for unstated dependencies in 'tests' ... OK * checking tests ... OK Running 'testthat.R' * checking for unstated dependencies in vignettes ... OK * checking package vignettes ... OK * checking re-building of vignette outputs ... [16s] OK * checking PDF version of manual ... [16s] OK * checking HTML version of manual ... OK * DONE Status: 1 NOTE