* using log directory 'd:/RCompile/CRANincoming/R-devel/MLwrap.Rcheck' * using R Under development (unstable) (2025-11-04 r88984 ucrt) * using platform: x86_64-w64-mingw32 * R was compiled by gcc.exe (GCC) 14.3.0 GNU Fortran (GCC) 14.3.0 * running under: Windows Server 2022 x64 (build 20348) * using session charset: UTF-8 * checking for file 'MLwrap/DESCRIPTION' ... OK * this is package 'MLwrap' version '0.2.2' * package encoding: UTF-8 * checking CRAN incoming feasibility ... NOTE Maintainer: 'Albert Sesé ' Found the following URLs which should use \doi (with the DOI name only): File 'fine_tuning.Rd': https://doi.org/10.1007/978-981-19-5170-1 File 'preprocessing.Rd': https://doi.org/10.1201/9781315108230 File 'sensitivity_analysis.Rd': https://doi.org/10.1007/978-1-4899-7547-8_5 https://doi.org/10.1016/S0010-4655(98)00154-4 File 'sim_data.Rd': https://doi.org/10.1371/journal.pone.0256152 https://doi.org/10.1007/978-0-387-84858-7 https://doi.org/10.1016/j.patter.2023.100804 https://doi.org/10.5093/clh2025a13 https://doi.org/10.1371/journal.pone.0224365 File 'tutorial.Rd': https://doi.org/10.31234/osf.io/j6m4z_v1 https://doi.org/10.5093/clh2025a13 * checking package namespace information ... OK * checking package dependencies ... OK * checking if this is a source package ... OK * checking if there is a namespace ... OK * checking for hidden files and directories ... OK * checking for portable file names ... OK * checking whether package 'MLwrap' can be installed ... OK * checking installed package size ... OK * checking package directory ... OK * checking for future file timestamps ... OK * checking DESCRIPTION meta-information ... OK * checking top-level files ... OK * checking for left-over files ... OK * checking index information ... OK * checking package subdirectories ... OK * checking code files for non-ASCII characters ... OK * checking R files for syntax errors ... OK * checking whether the package can be loaded ... OK * checking whether the package can be loaded with stated dependencies ... OK * checking whether the package can be unloaded cleanly ... OK * checking whether the namespace can be loaded with stated dependencies ... OK * checking whether the namespace can be unloaded cleanly ... OK * checking loading without being on the library search path ... OK * checking whether startup messages can be suppressed ... OK * checking use of S3 registration ... OK * checking dependencies in R code ... OK * checking S3 generic/method consistency ... OK * checking replacement functions ... OK * checking foreign function calls ... OK * checking R code for possible problems ... OK * checking Rd files ... OK * checking Rd metadata ... OK * checking Rd line widths ... OK * checking Rd cross-references ... OK * checking for missing documentation entries ... OK * checking for code/documentation mismatches ... OK * checking Rd \usage sections ... OK * checking Rd contents ... OK * checking for unstated dependencies in examples ... OK * checking contents of 'data' directory ... OK * checking data for non-ASCII characters ... OK * checking LazyData ... OK * checking data for ASCII and uncompressed saves ... OK * checking examples ... [29s] OK * checking for unstated dependencies in 'tests' ... OK * checking tests ... OK Running 'testthat.R' * checking PDF version of manual ... [12s] OK * checking HTML version of manual ... OK * DONE Status: 1 NOTE