* using log directory 'd:/RCompile/CRANincoming/R-devel/MCDA.Rcheck' * using R Under development (unstable) (2025-11-24 r89059 ucrt) * using platform: x86_64-w64-mingw32 * R was compiled by gcc.exe (GCC) 14.3.0 GNU Fortran (GCC) 14.3.0 * running under: Windows Server 2022 x64 (build 20348) * using session charset: UTF-8 * checking for file 'MCDA/DESCRIPTION' ... OK * this is package 'MCDA' version '0.1.1' * package encoding: UTF-8 * checking CRAN incoming feasibility ... NOTE Maintainer: 'David Palma ' New submission Package was archived on CRAN Possibly misspelled words in DESCRIPTION: Alexandru (27:23) Bigaret (26:73) Hodgett (26:90) MCDA (25:74, 28:15) Mironova (27:13) Multicriteria (3:24, 25:43) Olteanu (27:33) Tatyana (27:5) bastien (26:65) CRAN repository db overrides: X-CRAN-Comment: Archived on 2025-11-20 as issues were not corrected in time. * checking package namespace information ... OK * checking package dependencies ... OK * checking if this is a source package ... OK * checking if there is a namespace ... OK * checking for hidden files and directories ... OK * checking for portable file names ... OK * checking serialization versions ... OK * checking whether package 'MCDA' can be installed ... OK * checking installed package size ... OK * checking package directory ... OK * checking for future file timestamps ... OK * checking DESCRIPTION meta-information ... NOTE Author field differs from that derived from Authors@R Author: 'Patrick Meyer, Sébastien Bigaret, Richard Hodgett, Alexandru-Liviu Olteanu, David Palma, Aritad Alan Choicharoon' Authors@R: 'Patrick Meyer [aut], Sébastien Bigaret [aut], Richard Hodgett [aut], Alexandru-Liviu Olteanu [aut], David Palma [aut, cre], Aritad Alan Choicharoon [aut]' * checking top-level files ... OK * checking for left-over files ... OK * checking index information ... OK * checking package subdirectories ... OK * checking code files for non-ASCII characters ... OK * checking R files for syntax errors ... OK * checking whether the package can be loaded ... OK * checking whether the package can be loaded with stated dependencies ... OK * checking whether the package can be unloaded cleanly ... OK * checking whether the namespace can be loaded with stated dependencies ... OK * checking whether the namespace can be unloaded cleanly ... OK * checking loading without being on the library search path ... OK * checking use of S3 registration ... OK * checking dependencies in R code ... OK * checking S3 generic/method consistency ... OK * checking replacement functions ... OK * checking foreign function calls ... OK * checking R code for possible problems ... [24s] OK * checking Rd files ... OK * checking Rd metadata ... OK * checking Rd line widths ... OK * checking Rd cross-references ... OK * checking for missing documentation entries ... OK * checking for code/documentation mismatches ... OK * checking Rd \usage sections ... OK * checking Rd contents ... OK * checking for unstated dependencies in examples ... OK * checking examples ... [12s] OK * checking for unstated dependencies in 'tests' ... OK * checking tests ... [19s] OK Running 'testthat.R' [19s] * checking PDF version of manual ... [13s] OK * checking HTML version of manual ... [10s] OK * DONE Status: 2 NOTEs