* using log directory ‘/srv/hornik/tmp/CRAN_pretest/IBclust.Rcheck’ * using R Under development (unstable) (2025-07-01 r88373) * using platform: x86_64-pc-linux-gnu * R was compiled by Debian clang version 19.1.7 (3) Debian flang-new version 19.1.7 (3) * running under: Debian GNU/Linux 13 (trixie) * using session charset: UTF-8 * checking for file ‘IBclust/DESCRIPTION’ ... OK * checking extension type ... Package * this is package ‘IBclust’ version ‘1.2’ * package encoding: UTF-8 * checking CRAN incoming feasibility ... [3s/4s] NOTE Maintainer: ‘Angelos Markos ’ New submission Possibly misspelled words in DESCRIPTION: Chechik (14:56) Costa (12:5) IB (7:74, 10:18, 12:71, 14:25) Slonim (13:111) Tishby (13:21, 13:122) al (12:14, 13:31, 14:67) et (12:11, 13:28, 14:64) No Authors@R field in DESCRIPTION. Please add one, modifying Authors@R: c(person(given = "Efthymios", family = "Costa", role = "aut"), person(given = "Ioanna", family = "Papatsouma", role = "aut"), person(given = "Angelos", family = "Markos", role = c("aut", "cre"), email = "amarkos@gmail.com")) as necessary. * checking package namespace information ... OK * checking package dependencies ... INFO Package in Depends/Imports which should probably only be in LinkingTo: ‘RcppEigen’ * checking if this is a source package ... OK * checking if there is a namespace ... OK * checking for executable files ... OK * checking for hidden files and directories ... OK * checking for portable file names ... OK * checking for sufficient/correct file permissions ... OK * checking whether package ‘IBclust’ can be installed ... [21s/21s] OK * used C++ compiler: ‘Debian clang version 19.1.7 (3+b1)’ * checking package directory ... OK * checking for future file timestamps ... OK * checking DESCRIPTION meta-information ... OK * checking top-level files ... OK * checking for left-over files ... OK * checking index information ... OK * checking package subdirectories ... OK * checking code files for non-ASCII characters ... OK * checking R files for syntax errors ... OK * checking whether the package can be loaded ... [1s/1s] OK * checking whether the package can be loaded with stated dependencies ... [1s/1s] OK * checking whether the package can be unloaded cleanly ... [1s/1s] OK * checking whether the namespace can be loaded with stated dependencies ... [1s/1s] OK * checking whether the namespace can be unloaded cleanly ... [1s/1s] OK * checking loading without being on the library search path ... [1s/1s] OK * checking use of S3 registration ... OK * checking dependencies in R code ... OK * checking S3 generic/method consistency ... OK * checking replacement functions ... OK * checking foreign function calls ... OK * checking R code for possible problems ... [7s/7s] OK * checking Rd files ... [1s/1s] OK * checking Rd metadata ... OK * checking Rd line widths ... OK * checking Rd cross-references ... OK * checking for missing documentation entries ... OK * checking for code/documentation mismatches ... OK * checking Rd \usage sections ... OK * checking Rd contents ... OK * checking for unstated dependencies in examples ... OK * checking line endings in C/C++/Fortran sources/headers ... OK * checking use of PKG_*FLAGS in Makefiles ... OK * checking use of SHLIB_OPENMP_*FLAGS in Makefiles ... OK * checking pragmas in C/C++ headers and code ... OK * checking compilation flags used ... OK * checking compiled code ... OK * checking examples ... [13s/13s] OK * checking PDF version of manual ... [4s/3s] OK * checking HTML version of manual ... [1s/1s] OK * checking for non-standard things in the check directory ... OK * checking for detritus in the temp directory ... OK * DONE Status: 1 NOTE