* using log directory 'd:/RCompile/CRANincoming/R-devel/HighFive.Rcheck' * using R Under development (unstable) (2025-07-01 r88373 ucrt) * using platform: x86_64-w64-mingw32 * R was compiled by gcc.exe (GCC) 14.2.0 GNU Fortran (GCC) 14.2.0 * running under: Windows Server 2022 x64 (build 20348) * using session charset: UTF-8 * checking for file 'HighFive/DESCRIPTION' ... OK * checking extension type ... Package * this is package 'HighFive' version '3.0.0' * checking CRAN incoming feasibility ... NOTE Maintainer: 'Andrew Robbins ' New submission Possibly misspelled words in DESCRIPTION: HDF (3:38) HighFive (3:12) libhdf (4:63) The Title field should be in title case. Current version is: 'The HighFive C++ interface to HDF5' In title case that is: 'The HighFive C++ Interface to HDF5' * checking package namespace information ... OK * checking package dependencies ... OK * checking if this is a source package ... OK * checking if there is a namespace ... OK * checking for hidden files and directories ... OK * checking for portable file names ... OK * checking serialization versions ... OK * checking whether package 'HighFive' can be installed ... OK * checking installed package size ... OK * checking package directory ... OK * checking for future file timestamps ... OK * checking DESCRIPTION meta-information ... OK * checking top-level files ... OK * checking for left-over files ... OK * checking index information ... OK * checking package subdirectories ... OK * checking whether the package can be loaded ... OK * checking whether the package can be loaded with stated dependencies ... OK * checking whether the package can be unloaded cleanly ... OK * checking whether the namespace can be loaded with stated dependencies ... OK * checking whether the namespace can be unloaded cleanly ... OK * checking loading without being on the library search path ... OK * checking use of S3 registration ... OK * checking Rd files ... OK * checking Rd metadata ... OK * checking Rd line widths ... OK * checking Rd cross-references ... OK * checking for code/documentation mismatches ... OK * checking Rd \usage sections ... OK * checking Rd contents ... OK * checking for unstated dependencies in examples ... OK * checking line endings in C/C++/Fortran sources/headers ... OK * checking pragmas in C/C++ headers and code ... OK * checking examples ... OK * checking for unstated dependencies in 'tests' ... OK * checking tests ... OK Running 'simpleTests.R' * checking PDF version of manual ... [13s] OK * checking HTML version of manual ... OK * DONE Status: 1 NOTE