* using log directory ‘/srv/hornik/tmp/CRAN_pretest/FoliarGrowth.Rcheck’ * using R Under development (unstable) (2025-07-04 r88383) * using platform: x86_64-pc-linux-gnu * R was compiled by Debian clang version 19.1.7 (3) Debian flang-new version 19.1.7 (3) * running under: Debian GNU/Linux 13 (trixie) * using session charset: UTF-8 * checking for file ‘FoliarGrowth/DESCRIPTION’ ... OK * checking extension type ... Package * this is package ‘FoliarGrowth’ version ‘0.1.0’ * package encoding: UTF-8 * checking CRAN incoming feasibility ... [3s/3s] NOTE Maintainer: ‘yefferson Espinosa ’ New submission Possibly misspelled words in DESCRIPTION: Analiza (3:8) Asimilación (12:29) Crecimiento (3:40, 11:61) Fisiológicos (3:24) Foliar (12:68) IAF (12:76) Neta (12:41) Relativo (12:5) TCR (12:15) Tasa (11:53, 12:21) Un (10:14) Vegetal (3:52) calcular (10:47) clave (11:13) como (11:45) conjunto (10:17) crecimiento (11:22) datos (13:24) de (3:37, 10:26, 11:19, 11:58, 12:26, 12:60, 13:21) experimentales (13:30) herramientas (10:29) más (13:7) partir (13:14) plantas (11:37) resumir (10:57) visualizar (10:67) Área (12:63) Índice (12:53) Índices (3:16) índices (11:5) The Title field should be in title case. Current version is: ‘Analiza Índices Fisiológicos de Crecimiento Vegetal’ In title case that is: ‘Analiza Índices Fisiológicos De Crecimiento Vegetal’ * checking package namespace information ... OK * checking package dependencies ... OK * checking if this is a source package ... OK * checking if there is a namespace ... OK * checking for executable files ... OK * checking for hidden files and directories ... OK * checking for portable file names ... OK * checking for sufficient/correct file permissions ... OK * checking whether package ‘FoliarGrowth’ can be installed ... [3s/3s] OK * checking package directory ... OK * checking for future file timestamps ... OK * checking DESCRIPTION meta-information ... NOTE Missing dependency on R >= 4.1.0 because package code uses the pipe |> or function shorthand \(...) syntax added in R 4.1.0. File(s) using such syntax: ‘analysis.R’ * checking top-level files ... OK * checking for left-over files ... OK * checking index information ... OK * checking package subdirectories ... OK * checking code files for non-ASCII characters ... OK * checking R files for syntax errors ... OK * checking whether the package can be loaded ... [1s/1s] OK * checking whether the package can be loaded with stated dependencies ... [1s/1s] OK * checking whether the package can be unloaded cleanly ... [0s/0s] OK * checking whether the namespace can be loaded with stated dependencies ... [1s/1s] OK * checking whether the namespace can be unloaded cleanly ... [1s/1s] OK * checking loading without being on the library search path ... [1s/1s] OK * checking use of S3 registration ... OK * checking dependencies in R code ... OK * checking S3 generic/method consistency ... OK * checking replacement functions ... OK * checking foreign function calls ... OK * checking R code for possible problems ... [4s/4s] OK * checking Rd files ... [0s/0s] OK * checking Rd metadata ... OK * checking Rd line widths ... OK * checking Rd cross-references ... OK * checking for missing documentation entries ... OK * checking for code/documentation mismatches ... OK * checking Rd \usage sections ... OK * checking Rd contents ... OK * checking for unstated dependencies in examples ... OK * checking contents of ‘data’ directory ... OK * checking data for non-ASCII characters ... [0s/0s] OK * checking LazyData ... OK * checking data for ASCII and uncompressed saves ... OK * checking examples ... [1s/1s] OK * checking for unstated dependencies in ‘tests’ ... OK * checking tests ... [1s/1s] OK Running ‘testthat.R’ [1s/1s] * checking PDF version of manual ... [2s/2s] OK * checking HTML version of manual ... [0s/0s] OK * checking for non-standard things in the check directory ... OK * checking for detritus in the temp directory ... OK * DONE Status: 2 NOTEs