* using log directory 'd:/RCompile/CRANincoming/R-devel/FishDiveR.Rcheck' * using R Under development (unstable) (2025-09-24 r88873 ucrt) * using platform: x86_64-w64-mingw32 * R was compiled by gcc.exe (GCC) 14.2.0 GNU Fortran (GCC) 14.2.0 * running under: Windows Server 2022 x64 (build 20348) * using session charset: UTF-8 * checking for file 'FishDiveR/DESCRIPTION' ... OK * this is package 'FishDiveR' version '1.0.1' * package encoding: UTF-8 * checking CRAN incoming feasibility ... NOTE Maintainer: 'Calvin Beale ' New submission Possibly misspelled words in DESCRIPTION: Beale (13:149) PSATs (10:86) Sakamoto (13:72) TDR (12:224) TDRs (11:52) al (13:84, 13:158) diel (11:252) et (13:81, 13:155) Found the following (possibly) invalid URLs: URL: https://calvinsbeale.github.io/FishDiveR/ From: README.md Status: 404 Message: Not Found Found the following (possibly) invalid file URI: URI: LICENSE From: README.md Found the following (possibly) invalid DOIs: DOI: 1 From: inst/CITATION Message: Invalid DOI DOI: In Press From: DESCRIPTION man/FishDiveR-package.Rd Message: Invalid DOI Size of tarball: 5398730 bytes * checking package namespace information ... OK * checking package dependencies ... OK * checking if this is a source package ... OK * checking if there is a namespace ... OK * checking for hidden files and directories ... OK * checking for portable file names ... OK * checking whether package 'FishDiveR' can be installed ... OK * checking installed package size ... OK * checking package directory ... OK * checking for future file timestamps ... OK * checking 'build' directory ... OK * checking DESCRIPTION meta-information ... NOTE Author field differs from that derived from Authors@R Author: 'Calvin Beale [aut, cre, cph] ()' Authors@R: 'Calvin Beale [aut, cre, cph] (ORCID: )' * checking top-level files ... OK * checking for left-over files ... OK * checking index information ... OK * checking package subdirectories ... OK * checking code files for non-ASCII characters ... OK * checking R files for syntax errors ... OK * checking whether the package can be loaded ... OK * checking whether the package can be loaded with stated dependencies ... OK * checking whether the package can be unloaded cleanly ... OK * checking whether the namespace can be loaded with stated dependencies ... OK * checking whether the namespace can be unloaded cleanly ... OK * checking loading without being on the library search path ... OK * checking whether startup messages can be suppressed ... OK * checking use of S3 registration ... OK * checking dependencies in R code ... OK * checking S3 generic/method consistency ... OK * checking replacement functions ... OK * checking foreign function calls ... OK * checking R code for possible problems ... [24s] OK * checking Rd files ... OK * checking Rd metadata ... OK * checking Rd line widths ... OK * checking Rd cross-references ... OK * checking for missing documentation entries ... OK * checking for code/documentation mismatches ... OK * checking Rd \usage sections ... OK * checking Rd contents ... OK * checking for unstated dependencies in examples ... OK * checking installed files from 'inst/doc' ... OK * checking files in 'vignettes' ... OK * checking examples ... [44s] NOTE Examples with CPU (user + system) or elapsed time > 10s user system elapsed pca_results 9.01 1.68 11.14 * checking for unstated dependencies in 'tests' ... OK * checking tests ... [98s] OK Running 'testthat.R' [98s] * checking for unstated dependencies in vignettes ... OK * checking package vignettes ... OK * checking re-building of vignette outputs ... OK * checking PDF version of manual ... [21s] OK * checking HTML version of manual ... OK * DONE Status: 3 NOTEs