* using log directory ‘/srv/hornik/tmp/CRAN/FAfA.Rcheck’ * using R Under development (unstable) (2024-07-03 r86870) * using platform: x86_64-pc-linux-gnu * R was compiled by Debian clang version 18.1.8 (1+b1) Debian flang-new version 18.1.8 (1+b1) * running under: Debian GNU/Linux trixie/sid * using session charset: UTF-8 * checking for file ‘FAfA/DESCRIPTION’ ... OK * this is package ‘FAfA’ version ‘0.2’ * package encoding: UTF-8 * checking CRAN incoming feasibility ... [3s/4s] NOTE Maintainer: ‘Abdullah Faruk KILIC ’ New submission Possibly misspelled words in DESCRIPTION: CFA (5:154, 5:243) EFA (5:146, 5:223) * checking package namespace information ... OK * checking package dependencies ... OK * checking if this is a source package ... OK * checking if there is a namespace ... OK * checking for executable files ... OK * checking for hidden files and directories ... OK * checking for portable file names ... OK * checking for sufficient/correct file permissions ... OK * checking serialization versions ... OK * checking whether package ‘FAfA’ can be installed ... [11s/11s] OK * checking package directory ... OK * checking for future file timestamps ... OK * checking ‘build’ directory ... OK * checking DESCRIPTION meta-information ... OK * checking top-level files ... OK * checking for left-over files ... OK * checking index information ... OK * checking package subdirectories ... OK * checking code files for non-ASCII characters ... OK * checking R files for syntax errors ... OK * checking whether the package can be loaded ... [3s/3s] OK * checking whether the package can be loaded with stated dependencies ... [3s/3s] OK * checking whether the package can be unloaded cleanly ... [3s/3s] OK * checking whether the namespace can be loaded with stated dependencies ... [3s/3s] OK * checking whether the namespace can be unloaded cleanly ... [3s/3s] OK * checking loading without being on the library search path ... [3s/3s] OK * checking use of S3 registration ... OK * checking dependencies in R code ... OK * checking S3 generic/method consistency ... OK * checking replacement functions ... OK * checking foreign function calls ... OK * checking R code for possible problems ... [15s/15s] NOTE app_server : assumptions: no visible global function definition for ‘as.formula’ app_server : assumptions: no visible binding for global variable ‘MD_p’ app_server: no visible global function definition for ‘head’ app_server : : no visible global function definition for ‘svg’ app_server : : no visible global function definition for ‘dev.off’ app_server: no visible global function definition for ‘cor’ app_server_tr : assumptions: no visible binding for global variable ‘MD_p’ app_server_tr: no visible binding for '<<-' assignment to ‘excluded_data_set’ app_server_tr: no visible binding for global variable ‘excluded_data_set’ app_server_tr : : no visible binding for global variable ‘excluded_data_set’ app_server_tr: no visible binding for '<<-' assignment to ‘splitted_efa’ app_server_tr: no visible binding for '<<-' assignment to ‘splitted_cfa’ app_server_tr: no visible binding for global variable ‘splitted_efa’ app_server_tr: no visible binding for global variable ‘splitted_cfa’ app_server_tr : : no visible global function definition for ‘write.table’ app_server_tr : : no visible binding for global variable ‘splitted_efa’ app_server_tr : : no visible binding for global variable ‘splitted_cfa’ app_server_tr: no visible binding for '<<-' assignment to ‘ass’ app_server_tr: no visible binding for global variable ‘ass’ app_server_tr: no visible binding for '<<-' assignment to ‘data_without_outlier’ app_server_tr: no visible binding for global variable ‘data_without_outlier’ app_server_tr : : no visible binding for global variable ‘data_without_outlier’ app_server_tr: no visible global function definition for ‘head’ app_server_tr : : no visible global function definition for ‘write.csv’ app_server_tr : : no visible binding for global variable ‘ass’ app_server_tr : : no visible global function definition for ‘svg’ app_server_tr : : no visible global function definition for ‘dev.off’ app_server_tr : factor_ret: no visible global function definition for ‘jpeg’ app_server_tr : factor_ret: no visible global function definition for ‘dev.off’ app_server_tr: no visible binding for '<<-' assignment to ‘kmo_analysis’ app_server_tr: no visible binding for global variable ‘kmo_analysis’ app_server_tr: no visible global function definition for ‘cor’ app_server_tr: no visible binding for '<<-' assignment to ‘cfa_result_first’ app_server_tr: no visible binding for global variable ‘cfa_result_first’ app_server_tr : : no visible binding for global variable ‘cfa_result_first’ app_server_tr: no visible binding for '<<-' assignment to ‘weighted_scores’ app_server_tr: no visible binding for global variable ‘weighted_scores’ app_server_tr : : no visible binding for global variable ‘weighted_scores’ Undefined global functions or variables: MD_p as.formula ass cfa_result_first cor data_without_outlier dev.off excluded_data_set head jpeg kmo_analysis splitted_cfa splitted_efa svg weighted_scores write.csv write.table Consider adding importFrom("grDevices", "dev.off", "jpeg", "svg") importFrom("stats", "as.formula", "cor") importFrom("utils", "head", "write.csv", "write.table") to your NAMESPACE file. * checking Rd files ... [0s/0s] OK * checking Rd metadata ... OK * checking Rd line widths ... OK * checking Rd cross-references ... OK * checking for missing documentation entries ... OK * checking for code/documentation mismatches ... OK * checking Rd \usage sections ... OK * checking Rd contents ... OK * checking for unstated dependencies in examples ... OK * checking installed files from ‘inst/doc’ ... OK * checking files in ‘vignettes’ ... OK * checking examples ... NONE * checking for unstated dependencies in ‘tests’ ... OK * checking tests ... [5s/5s] OK Running ‘spelling.R’ [0s/0s] Running ‘testthat.R’ [4s/4s] * checking for unstated dependencies in vignettes ... OK * checking package vignettes ... OK * checking re-building of vignette outputs ... [4s/4s] OK * checking PDF version of manual ... [2s/2s] OK * checking HTML version of manual ... [0s/0s] OK * checking for non-standard things in the check directory ... OK * checking for detritus in the temp directory ... OK * DONE Status: 2 NOTEs