* using log directory 'd:/RCompile/CRANincoming/R-devel/EvenBetterRegression.Rcheck' * using R Under development (unstable) (2025-10-31 r88977 ucrt) * using platform: x86_64-w64-mingw32 * R was compiled by gcc.exe (GCC) 14.3.0 GNU Fortran (GCC) 14.3.0 * running under: Windows Server 2022 x64 (build 20348) * using session charset: UTF-8 * checking for file 'EvenBetterRegression/DESCRIPTION' ... OK * checking extension type ... Package * this is package 'EvenBetterRegression' version '1.0.1' * package encoding: UTF-8 * will not attempt to install this package on Windows * checking CRAN incoming feasibility ... NOTE Maintainer: 'Peter Reiker ' New submission Possibly misspelled words in DESCRIPTION: lm (15:46) The Description field should not start with the package name, 'This package' or similar. * checking if this is a source package ... OK * checking if there is a namespace ... OK * checking for hidden files and directories ... OK * checking for portable file names ... OK * checking serialization versions ... OK * checking package directory ... OK * checking for future file timestamps ... OK * checking DESCRIPTION meta-information ... OK * checking top-level files ... OK * checking for left-over files ... OK * checking index information ... OK * checking package subdirectories ... OK * checking code files for non-ASCII characters ... OK * checking R files for syntax errors ... OK * checking dependencies in R code ... OK * checking S3 generic/method consistency ... OK * checking replacement functions ... OK * checking foreign function calls ... OK * checking R code for possible problems ... OK * checking Rd files ... OK * checking Rd metadata ... OK * checking Rd line widths ... OK * checking Rd cross-references ... OK * checking for missing documentation entries ... OK * checking for code/documentation mismatches ... OK * checking Rd \usage sections ... OK * checking Rd contents ... OK * checking examples ... [44m] NOTE Examples with CPU (user + system) or elapsed time > 10s user system elapsed Even_Better_Regression 2598.13 15.03 2624.66 * checking for unstated dependencies in 'tests' ... OK * checking tests ... SKIPPED * checking PDF version of manual ... [12s] OK * checking HTML version of manual ... OK * DONE Status: 2 NOTEs