* using log directory 'd:/RCompile/CRANincoming/R-devel/DroughtR.Rcheck' * using R Under development (unstable) (2025-10-17 r88928 ucrt) * using platform: x86_64-w64-mingw32 * R was compiled by gcc.exe (GCC) 14.2.0 GNU Fortran (GCC) 14.2.0 * running under: Windows Server 2022 x64 (build 20348) * using session charset: UTF-8 * checking for file 'DroughtR/DESCRIPTION' ... OK * checking extension type ... Package * this is package 'DroughtR' version '0.1.0' * package encoding: UTF-8 * checking CRAN incoming feasibility ... NOTE Maintainer: 'Rahul Patil ' New submission Possibly misspelled words in DESCRIPTION: Doesken (11:31) Evapotranspiration (10:674, 12:176) Kleist (11:49) SPEI (10:700, 10:1016, 10:1359, 12:202) SPI (10:634, 10:966, 10:1351) hydrological (10:395) pez (12:61) th (11:155) The Description field contains doi:10.1002/j.1680-0365.1993.tb01816.x 2. Vicente-Serrano, S. M., 23(7), 1696–1718. doi:10.1175/2009JCLI2909.1 Please write DOIs as . * checking package namespace information ... OK * checking package dependencies ... OK * checking if this is a source package ... OK * checking if there is a namespace ... OK * checking for hidden files and directories ... OK * checking for portable file names ... OK * checking serialization versions ... OK * checking whether package 'DroughtR' can be installed ... OK * checking installed package size ... OK * checking package directory ... OK * checking for future file timestamps ... OK * checking DESCRIPTION meta-information ... NOTE Malformed Description field: should contain one or more complete sentences. * checking top-level files ... OK * checking for left-over files ... OK * checking index information ... OK * checking package subdirectories ... OK * checking code files for non-ASCII characters ... OK * checking R files for syntax errors ... OK * checking whether the package can be loaded ... OK * checking whether the package can be loaded with stated dependencies ... OK * checking whether the package can be unloaded cleanly ... OK * checking whether the namespace can be loaded with stated dependencies ... OK * checking whether the namespace can be unloaded cleanly ... OK * checking loading without being on the library search path ... OK * checking use of S3 registration ... OK * checking dependencies in R code ... OK * checking S3 generic/method consistency ... OK * checking replacement functions ... OK * checking foreign function calls ... OK * checking R code for possible problems ... OK * checking Rd files ... OK * checking Rd metadata ... OK * checking Rd line widths ... OK * checking Rd cross-references ... OK * checking for missing documentation entries ... OK * checking for code/documentation mismatches ... OK * checking Rd \usage sections ... OK * checking Rd contents ... OK * checking for unstated dependencies in examples ... OK * checking examples ... OK * checking PDF version of manual ... [19s] OK * checking HTML version of manual ... OK * DONE Status: 2 NOTEs