* using log directory 'd:/RCompile/CRANincoming/R-devel/Dimodal.Rcheck' * using R Under development (unstable) (2025-11-20 r89043 ucrt) * using platform: x86_64-w64-mingw32 * R was compiled by gcc.exe (GCC) 14.3.0 GNU Fortran (GCC) 14.3.0 * running under: Windows Server 2022 x64 (build 20348) * using session charset: UTF-8 * checking for file 'Dimodal/DESCRIPTION' ... OK * this is package 'Dimodal' version '1.0.0' * checking CRAN incoming feasibility ... NOTE Maintainer: 'Greg Kreider ' New submission Suggests or Enhances not in mainstream repositories: bcp, otsad * checking package namespace information ... OK * checking package dependencies ... INFO Packages suggested but not available for checking: 'bcp', 'otsad' * checking if this is a source package ... OK * checking if there is a namespace ... OK * checking for hidden files and directories ... OK * checking for portable file names ... OK * checking serialization versions ... OK * checking whether package 'Dimodal' can be installed ... OK * used C compiler: 'gcc.exe (GCC) 14.3.0' * checking installed package size ... OK * checking package directory ... OK * checking for future file timestamps ... OK * checking DESCRIPTION meta-information ... OK * checking top-level files ... OK * checking for left-over files ... OK * checking index information ... OK * checking package subdirectories ... OK * checking code files for non-ASCII characters ... OK * checking R files for syntax errors ... OK * checking whether the package can be loaded ... OK * checking whether the package can be loaded with stated dependencies ... OK * checking whether the package can be unloaded cleanly ... OK * checking whether the namespace can be loaded with stated dependencies ... OK * checking whether the namespace can be unloaded cleanly ... OK * checking loading without being on the library search path ... OK * checking use of S3 registration ... OK * checking dependencies in R code ... OK * checking S3 generic/method consistency ... NOTE Mismatches for apparent methods not registered: print: function(x, ...) print.peakmatch: function(lp, diw, lp2diw, near) print: function(x, ...) print.flatmatch: function(lp, diw, lp2diw, foverlap) format: function(x, ...) format.libs: function(libs, txt, w) format: function(x, ...) format.pos: function(pos, txt, w) plot: function(x, ...) plot.Dimodal.lp: function(x, opt, add.decile) plot: function(x, ...) plot.Dimodal.cpt: function(x, opt, add.decile) plot: function(x, ...) plot.Dimodal.hist: function(x, opt, feat.src) plot: function(x, ...) plot.hclpals: function(n, cblindfn, pals) plot: function(x, ...) plot.fttrack: function(ft, nx, smooth, maxwin) plot: function(x, ...) plot.Dimodal.diw: function(x, opt, add.decile) plot: function(x, ...) plot.pktrack: function(pk, nx, smooth, maxwin) nchar: function(x, type, allowNA, keepNA) nchar.marked: function(x) See section 'Registering S3 methods' in the 'Writing R Extensions' manual. * checking replacement functions ... OK * checking foreign function calls ... OK * checking R code for possible problems ... [11s] OK * checking Rd files ... OK * checking Rd metadata ... OK * checking Rd line widths ... OK * checking Rd cross-references ... OK * checking for missing documentation entries ... OK * checking for code/documentation mismatches ... OK * checking Rd \usage sections ... OK * checking Rd contents ... OK * checking for unstated dependencies in examples ... OK * checking contents of 'data' directory ... OK * checking data for non-ASCII characters ... OK * checking data for ASCII and uncompressed saves ... OK * checking line endings in C/C++/Fortran sources/headers ... OK * checking pragmas in C/C++ headers and code ... OK * checking compilation flags used ... OK * checking compiled code ... OK * checking examples ... OK * checking for unstated dependencies in 'tests' ... OK * checking tests ... OK Running 'test_all.R' Comparing 'test_all.Rout' to 'test_all.Rout.save' ... OK * checking PDF version of manual ... [17s] OK * checking HTML version of manual ... OK * DONE Status: 2 NOTEs