* using log directory 'd:/RCompile/CRANincoming/R-devel/CvmortalityMult.Rcheck'
* using R Under development (unstable) (2025-11-26 r89066 ucrt)
* using platform: x86_64-w64-mingw32
* R was compiled by
gcc.exe (GCC) 14.3.0
GNU Fortran (GCC) 14.3.0
* running under: Windows Server 2022 x64 (build 20348)
* using session charset: UTF-8
* checking for file 'CvmortalityMult/DESCRIPTION' ... OK
* checking extension type ... Package
* this is package 'CvmortalityMult' version '1.1.1'
* package encoding: UTF-8
* checking CRAN incoming feasibility ... OK
* checking package namespace information ... OK
* checking package dependencies ... OK
* checking if this is a source package ... OK
* checking if there is a namespace ... OK
* checking for hidden files and directories ... OK
* checking for portable file names ... OK
* checking whether package 'CvmortalityMult' can be installed ... OK
* checking installed package size ... OK
* checking package directory ... OK
* checking for future file timestamps ... OK
* checking DESCRIPTION meta-information ... OK
* checking top-level files ... OK
* checking for left-over files ... OK
* checking index information ... OK
* checking package subdirectories ... OK
* checking code files for non-ASCII characters ... OK
* checking R files for syntax errors ... OK
* checking whether the package can be loaded ... OK
* checking whether the package can be loaded with stated dependencies ... OK
* checking whether the package can be unloaded cleanly ... OK
* checking whether the namespace can be loaded with stated dependencies ... OK
* checking whether the namespace can be unloaded cleanly ... OK
* checking loading without being on the library search path ... OK
* checking use of S3 registration ... OK
* checking dependencies in R code ... OK
* checking S3 generic/method consistency ... OK
* checking replacement functions ... OK
* checking foreign function calls ... OK
* checking R code for possible problems ... [43s] OK
* checking Rd files ... OK
* checking Rd metadata ... OK
* checking Rd line widths ... OK
* checking Rd cross-references ... OK
* checking for missing documentation entries ... OK
* checking for code/documentation mismatches ... OK
* checking Rd \usage sections ... OK
* checking Rd contents ... OK
* checking for unstated dependencies in examples ... OK
* checking contents of 'data' directory ... OK
* checking data for non-ASCII characters ... OK
* checking LazyData ... OK
* checking data for ASCII and uncompressed saves ... OK
* checking examples ... [12s] OK
* checking for unstated dependencies in 'tests' ... OK
* checking tests ... OK
Running 'testthat.R'
* checking PDF version of manual ... [12s] OK
* checking HTML version of manual ... NOTE
Found the following HTML validation problems:
multipopulation_cv.html:37:1 (multipopulation_cv.Rd:87): Warning:
attribute "\bsl{}ifelse\{html\}" lacks value
multipopulation_cv.html:37:1 (multipopulation_cv.Rd:87): Warning:
attribute name "\{style" (value="width:100%;") is invalid
multipopulation_cv.html:37:1 (multipopulation_cv.Rd:87): Warning:
attribute "\}" lacks value
multipopulation_cv.html:54:4 (multipopulation_cv.Rd:100): Warning:
attribute "\bsl{}ifelse\{html\}" lacks value
multipopulation_cv.html:54:4 (multipopulation_cv.Rd:100): Warning:
attribute name "\{style" (value="width:100%;") is invalid
multipopulation_cv.html:54:4 (multipopulation_cv.Rd:100): Warning:
attribute "\}" lacks value
multipopulation_cv.html:71:4 (multipopulation_cv.Rd:114): Warning:
attribute "\bsl{}ifelse\{html\}" lacks value
multipopulation_cv.html:71:4 (multipopulation_cv.Rd:114): Warning:
attribute name "\{style" (value="width:100%;") is invalid
multipopulation_cv.html:71:4 (multipopulation_cv.Rd:114): Warning:
attribute "\}" lacks value
CvmortalityMult.html:1140:1 (multipopulation_cv.Rd:87): Warning:
attribute "\bsl{}ifelse\{html\}" lacks value
CvmortalityMult.html:1140:1 (multipopulation_cv.Rd:87): Warning:
attribute name "\{style" (value="width:100%;") is invalid
CvmortalityMult.html:1140:1 (multipopulation_cv.Rd:87): Warning:
attribute "\}" lacks value
CvmortalityMult.html:1157:4 (multipopulation_cv.Rd:100): Warning:
attribute "\bsl{}ifelse\{html\}" lacks value
CvmortalityMult.html:1157:4 (multipopulation_cv.Rd:100): Warning:
attribute name "\{style" (value="width:100%;") is invalid
CvmortalityMult.html:1157:4 (multipopulation_cv.Rd:100): Warning:
attribute "\}" lacks value
CvmortalityMult.html:1174:4 (multipopulation_cv.Rd:114): Warning:
attribute "\bsl{}ifelse\{html\}" lacks value
CvmortalityMult.html:1174:4 (multipopulation_cv.Rd:114): Warning:
attribute name "\{style" (value="width:100%;") is invalid
CvmortalityMult.html:1174:4 (multipopulation_cv.Rd:114): Warning:
attribute "\}" lacks value
* DONE
Status: 1 NOTE