* using log directory 'd:/RCompile/CRANincoming/R-devel/ColOpenData.Rcheck' * using R Under development (unstable) (2024-07-30 r86939 ucrt) * using platform: x86_64-w64-mingw32 * R was compiled by gcc.exe (GCC) 13.2.0 GNU Fortran (GCC) 13.2.0 * running under: Windows Server 2022 x64 (build 20348) * using session charset: UTF-8 * checking for file 'ColOpenData/DESCRIPTION' ... OK * this is package 'ColOpenData' version '0.2.0' * package encoding: UTF-8 * checking CRAN incoming feasibility ... [53s] NOTE Maintainer: 'Maria Camila Tavera-Cifuentes ' New submission Possibly misspelled words in DESCRIPTION: Geospatial (2:52) geospatial (25:20) Found the following (possibly) invalid URLs: URL: http://www.ideam.gov.co/ From: inst/doc/climate_data.html README.md Status: Error Message: Failed to connect to www.ideam.gov.co port 80 after 21171 ms: Couldn't connect to server URL: http://www.ideam.gov.co/documents/10182/557765/Definiciones+CNE.pdf/25e1cca5-ee47-4eaf-86c0-c4f5192a9937 From: inst/doc/climate_data.html Status: Error Message: Failed to connect to www.ideam.gov.co port 80 after 21264 ms: Couldn't connect to server The Description field should not start with the package name, 'This package' or similar. * checking package namespace information ... OK * checking package dependencies ... OK * checking if this is a source package ... OK * checking if there is a namespace ... OK * checking for hidden files and directories ... OK * checking for portable file names ... OK * checking serialization versions ... OK * checking whether package 'ColOpenData' can be installed ... OK * checking installed package size ... OK * checking package directory ... OK * checking for future file timestamps ... OK * checking 'build' directory ... OK * checking DESCRIPTION meta-information ... OK * checking top-level files ... OK * checking for left-over files ... OK * checking index information ... OK * checking package subdirectories ... OK * checking code files for non-ASCII characters ... OK * checking R files for syntax errors ... OK * checking whether the package can be loaded ... OK * checking whether the package can be loaded with stated dependencies ... OK * checking whether the package can be unloaded cleanly ... OK * checking whether the namespace can be loaded with stated dependencies ... OK * checking whether the namespace can be unloaded cleanly ... OK * checking loading without being on the library search path ... OK * checking use of S3 registration ... OK * checking dependencies in R code ... OK * checking S3 generic/method consistency ... OK * checking replacement functions ... OK * checking foreign function calls ... OK * checking R code for possible problems ... OK * checking Rd files ... OK * checking Rd metadata ... OK * checking Rd line widths ... OK * checking Rd cross-references ... OK * checking for missing documentation entries ... OK * checking for code/documentation mismatches ... OK * checking Rd \usage sections ... NOTE Documented arguments not in \usage in Rd file 'retrieve_dict_path.Rd': 'dataset' Functions with \usage entries need to have the appropriate \alias entries, and all their arguments documented. The \usage entries must correspond to syntactically valid R code. See chapter 'Writing R documentation files' in the 'Writing R Extensions' manual. * checking Rd contents ... OK * checking for unstated dependencies in examples ... OK * checking contents of 'data' directory ... OK * checking data for non-ASCII characters ... OK * checking LazyData ... OK * checking data for ASCII and uncompressed saves ... OK * checking installed files from 'inst/doc' ... OK * checking files in 'vignettes' ... OK * checking examples ... [11m] NOTE Examples with CPU (user + system) or elapsed time > 10s user system elapsed aggregate_climate 2.21 0.25 126.66 download_climate_stations 1.33 0.06 127.41 download_climate_geom 1.27 0.03 133.77 download_climate 1.11 0.06 95.22 download_geospatial 0.56 0.58 123.66 merge_geo_demographic 0.42 0.22 24.91 * checking for unstated dependencies in 'tests' ... OK * checking tests ... [29m] OK Running 'spelling.R' Running 'testthat.R' [29m] * checking for unstated dependencies in vignettes ... OK * checking package vignettes ... OK * checking re-building of vignette outputs ... [18m] OK * checking PDF version of manual ... [22s] OK * checking HTML version of manual ... OK * DONE Status: 3 NOTEs