* using log directory 'd:/RCompile/CRANincoming/R-devel/CaMeA.Rcheck' * using R Under development (unstable) (2025-09-19 r88859 ucrt) * using platform: x86_64-w64-mingw32 * R was compiled by gcc.exe (GCC) 14.2.0 GNU Fortran (GCC) 14.2.0 * running under: Windows Server 2022 x64 (build 20348) * using session charset: UTF-8 * checking for file 'CaMeA/DESCRIPTION' ... OK * checking extension type ... Package * this is package 'CaMeA' version '0.1.0' * package encoding: UTF-8 * checking CRAN incoming feasibility ... NOTE Maintainer: 'Clement Berenfeld ' New submission * checking package namespace information ... OK * checking package dependencies ... OK * checking if this is a source package ... OK * checking if there is a namespace ... OK * checking for hidden files and directories ... NOTE Found the following hidden files and directories: vignettes/.RData These were most likely included in error. See section 'Package structure' in the 'Writing R Extensions' manual. CRAN-pack does not know about vignettes/.RData * checking for portable file names ... OK * checking whether package 'CaMeA' can be installed ... OK * checking installed package size ... OK * checking package directory ... OK * checking for future file timestamps ... OK * checking 'build' directory ... OK * checking DESCRIPTION meta-information ... OK * checking top-level files ... NOTE Non-standard files/directories found at top level: 'CaMeA.Rproj' 'LICENSE.md' * checking for left-over files ... OK * checking index information ... OK * checking package subdirectories ... OK * checking code files for non-ASCII characters ... OK * checking R files for syntax errors ... OK * checking whether the package can be loaded ... OK * checking whether the package can be loaded with stated dependencies ... OK * checking whether the package can be unloaded cleanly ... OK * checking whether the namespace can be loaded with stated dependencies ... OK * checking whether the namespace can be unloaded cleanly ... OK * checking loading without being on the library search path ... OK * checking use of S3 registration ... OK * checking dependencies in R code ... OK * checking S3 generic/method consistency ... OK * checking replacement functions ... OK * checking foreign function calls ... OK * checking R code for possible problems ... NOTE camea: no visible binding for global variable 'ai_vals' camea: no visible binding for global variable 'n1i_vals' camea: no visible binding for global variable 'ci_vals' camea: no visible binding for global variable 'n2i_vals' camea: no visible global function definition for 'par' camea: no visible binding for global variable 'study' camea: no visible binding for global variable 'thetai' camea: no visible binding for global variable 'sei' Undefined global functions or variables: ai_vals ci_vals n1i_vals n2i_vals par sei study thetai Consider adding importFrom("graphics", "par") to your NAMESPACE file. * checking Rd files ... OK * checking Rd metadata ... OK * checking Rd line widths ... OK * checking Rd cross-references ... OK * checking for missing documentation entries ... OK * checking for code/documentation mismatches ... OK * checking Rd \usage sections ... OK * checking Rd contents ... NOTE Argument items with no description in Rd file 'camea.Rd': '...' * checking for unstated dependencies in examples ... OK * checking installed files from 'inst/doc' ... OK * checking files in 'vignettes' ... OK * checking examples ... OK * checking for unstated dependencies in vignettes ... NOTE 'library' or 'require' call not declared from: 'kableExtra' * checking package vignettes ... OK * checking re-building of vignette outputs ... OK * checking PDF version of manual ... [12s] OK * checking HTML version of manual ... OK * DONE Status: 6 NOTEs