* using log directory 'd:/RCompile/CRANincoming/R-devel/BIGL.Rcheck' * using R Under development (unstable) (2024-07-30 r86939 ucrt) * using platform: x86_64-w64-mingw32 * R was compiled by gcc.exe (GCC) 13.2.0 GNU Fortran (GCC) 13.2.0 * running under: Windows Server 2022 x64 (build 20348) * using session charset: UTF-8 * checking for file 'BIGL/DESCRIPTION' ... OK * checking extension type ... Package * this is package 'BIGL' version '1.9.3' * package encoding: UTF-8 * checking CRAN incoming feasibility ... [12s] NOTE Maintainer: 'Kathy Mutambanengwe ' No Authors@R field in DESCRIPTION. Please add one, modifying Authors@R: c(person(given = "Heather", family = "Turner", role = "aut"), person(given = "Annelies", family = "Tourny", role = "aut"), person(given = "Olivier", family = "Thas", role = "aut"), person(given = "Maxim", family = "Nazarov", role = "aut"), person(given = "Rytis", family = "Bagdziunas", role = "aut"), person(given = "Stijn", family = "Hawinkel", role = "aut"), person(given = c("Javier", "Franco"), family = "PĂ©rez", role = "aut"), person(given = "Kathy", family = "Mutambanengwe", role = c("aut", "cre"), email = "kathy.mutambanengwe@openanalytics.eu")) as necessary. * checking package namespace information ... OK * checking package dependencies ... OK * checking if this is a source package ... OK * checking if there is a namespace ... OK * checking for hidden files and directories ... OK * checking for portable file names ... OK * checking whether package 'BIGL' can be installed ... OK * checking installed package size ... OK * checking package directory ... OK * checking for future file timestamps ... OK * checking 'build' directory ... OK * checking DESCRIPTION meta-information ... OK * checking top-level files ... OK * checking for left-over files ... OK * checking index information ... OK * checking package subdirectories ... OK * checking code files for non-ASCII characters ... OK * checking R files for syntax errors ... OK * checking whether the package can be loaded ... OK * checking whether the package can be loaded with stated dependencies ... OK * checking whether the package can be unloaded cleanly ... OK * checking whether the namespace can be loaded with stated dependencies ... OK * checking whether the namespace can be unloaded cleanly ... OK * checking loading without being on the library search path ... OK * checking use of S3 registration ... OK * checking dependencies in R code ... OK * checking S3 generic/method consistency ... OK * checking replacement functions ... OK * checking foreign function calls ... OK * checking R code for possible problems ... [17s] OK * checking Rd files ... OK * checking Rd metadata ... OK * checking Rd line widths ... OK * checking Rd cross-references ... OK * checking for missing documentation entries ... OK * checking for code/documentation mismatches ... OK * checking Rd \usage sections ... OK * checking Rd contents ... OK * checking for unstated dependencies in examples ... OK * checking contents of 'data' directory ... OK * checking data for non-ASCII characters ... OK * checking LazyData ... OK * checking data for ASCII and uncompressed saves ... OK * checking installed files from 'inst/doc' ... OK * checking files in 'vignettes' ... OK * checking examples ... OK * checking for unstated dependencies in 'tests' ... OK * checking tests ... [28s] OK Running 'testthat.R' [28s] * checking for unstated dependencies in vignettes ... OK * checking package vignettes ... OK * checking re-building of vignette outputs ... [106s] OK * checking PDF version of manual ... [23s] OK * checking HTML version of manual ... [12s] OK * DONE Status: 1 NOTE